Workbook
Name L1_MJP: #REF!
Name L2_MJP: #REF!
Name L3_MJP: #REF!

Sheet M4_PR_Lijsten
B6: type project | C6: =Basisgetallen!D4 -> Expert | D6: =Basisgetallen!E4 -> Deskundige | E6: =Basisgetallen!F4 -> Andere dienst | F6: =Basisgetallen!G4 -> Extern | G6: =Basisgetallen!H4 -> reductiefactor | H6: =Basisgetallen!I4 -> Interne kosten - niet personeel | I6: =Basisgetallen!J4 -> Investeringen | N6: Mogelijke types | O6: simpel
A7: De basis | C7: =Basisgetallen!D6 -> 437.5 | D7: =Basisgetallen!E6 -> 375 | E7: =Basisgetallen!F6 -> 406.25 | F7: 1 | G7: 1 | H7: 1 | I7: 1 | O7: normaal
B8: {=(_xlfn.UNIQUE(_xlfn._xlws.FILTER(Basisgetallen!B8:B19,Basisgetallen!B8:B19<>"")))} -> Vertaling naar strategische beleidskaders (wonen, BP ruimte, enz.) [per beleidskader] | C8: =_xlfn.IFNA(VLOOKUP($B8,Basisgetallen!$B$8:$K$171,3,FALSE)*C$7,0) -> 2625 | D8: =_xlfn.IFNA(VLOOKUP($B8,Basisgetallen!$B$8:$K$171,4,FALSE)*D$7,0) -> 0 | E8: =_xlfn.IFNA(VLOOKUP($B8,Basisgetallen!$B$8:$K$171,5,FALSE)*E$7,0) -> 0 | F8: =_xlfn.IFNA(VLOOKUP($B8,Basisgetallen!$B$8:$K$171,6,FALSE),0) -> 0 | G8: =_xlfn.IFNA(VLOOKUP($B8,Basisgetallen!$B$8:$K$171,7,FALSE),0) -> 1 | H8: =_xlfn.IFNA(VLOOKUP($B8,Basisgetallen!$B$8:$K$171,8,FALSE),0) -> 0 | I8: =_xlfn.IFNA(VLOOKUP($B8,Basisgetallen!$B$8:$K$171,9,FALSE),0) -> 0 | J8: =_xlfn.IFNA(VLOOKUP($B8,Basisgetallen!$B$8:$K$171,10,FALSE),"geen opmerkingen") -> Het opvolgen van de opmaak van één beleidskader door een andere dienst vanuit het thema warmte | O8: complex
B9: reserve | C9: =_xlfn.IFNA(VLOOKUP($B9,Basisgetallen!$B$8:$K$171,3,FALSE)*C$7,0) -> 0 | D9: =_xlfn.IFNA(VLOOKUP($B9,Basisgetallen!$B$8:$K$171,4,FALSE)*D$7,0) -> 0 | E9: =_xlfn.IFNA(VLOOKUP($B9,Basisgetallen!$B$8:$K$171,5,FALSE)*E$7,0) -> 0 | F9: =_xlfn.IFNA(VLOOKUP($B9,Basisgetallen!$B$8:$K$171,6,FALSE),0) -> 0 | G9: =_xlfn.IFNA(VLOOKUP($B9,Basisgetallen!$B$8:$K$171,7,FALSE),0) -> 1 | H9: =_xlfn.IFNA(VLOOKUP($B9,Basisgetallen!$B$8:$K$171,8,FALSE),0) -> 0 | I9: =_xlfn.IFNA(VLOOKUP($B9,Basisgetallen!$B$8:$K$171,9,FALSE),0) -> 0 | J9: =_xlfn.IFNA(VLOOKUP($B9,Basisgetallen!$B$8:$K$171,10,FALSE),"geen opmerkingen") -> 0
C10: =_xlfn.IFNA(VLOOKUP($B10,Basisgetallen!$B$8:$K$171,3,FALSE)*C$7,0) -> 0 | D10: =_xlfn.IFNA(VLOOKUP($B10,Basisgetallen!$B$8:$K$171,4,FALSE)*D$7,0) -> 0 | E10: =_xlfn.IFNA(VLOOKUP($B10,Basisgetallen!$B$8:$K$171,5,FALSE)*E$7,0) -> 0 | F10: =_xlfn.IFNA(VLOOKUP($B10,Basisgetallen!$B$8:$K$171,6,FALSE),0) -> 0 | G10: =_xlfn.IFNA(VLOOKUP($B10,Basisgetallen!$B$8:$K$171,7,FALSE),0) -> 0 | H10: =_xlfn.IFNA(VLOOKUP($B10,Basisgetallen!$B$8:$K$171,8,FALSE),0) -> 0 | I10: =_xlfn.IFNA(VLOOKUP($B10,Basisgetallen!$B$8:$K$171,9,FALSE),0) -> 0 | J10: =_xlfn.IFNA(VLOOKUP($B10,Basisgetallen!$B$8:$K$171,10,FALSE),"geen opmerkingen") -> geen opmerkingen
C11: =_xlfn.IFNA(VLOOKUP($B11,Basisgetallen!$B$8:$K$171,3,FALSE)*C$7,0) -> 0 | D11: =_xlfn.IFNA(VLOOKUP($B11,Basisgetallen!$B$8:$K$171,4,FALSE)*D$7,0) -> 0 | E11: =_xlfn.IFNA(VLOOKUP($B11,Basisgetallen!$B$8:$K$171,5,FALSE)*E$7,0) -> 0 | F11: =_xlfn.IFNA(VLOOKUP($B11,Basisgetallen!$B$8:$K$171,6,FALSE),0) -> 0 | G11: =_xlfn.IFNA(VLOOKUP($B11,Basisgetallen!$B$8:$K$171,7,FALSE),0) -> 0 | H11: =_xlfn.IFNA(VLOOKUP($B11,Basisgetallen!$B$8:$K$171,8,FALSE),0) -> 0 | I11: =_xlfn.IFNA(VLOOKUP($B11,Basisgetallen!$B$8:$K$171,9,FALSE),0) -> 0 | J11: =_xlfn.IFNA(VLOOKUP($B11,Basisgetallen!$B$8:$K$171,10,FALSE),"geen opmerkingen") -> geen opmerkingen
C12: =_xlfn.IFNA(VLOOKUP($B12,Basisgetallen!$B$8:$K$171,3,FALSE)*C$7,0) -> 0 | D12: =_xlfn.IFNA(VLOOKUP($B12,Basisgetallen!$B$8:$K$171,4,FALSE)*D$7,0) -> 0 | E12: =_xlfn.IFNA(VLOOKUP($B12,Basisgetallen!$B$8:$K$171,5,FALSE)*E$7,0) -> 0 | F12: =_xlfn.IFNA(VLOOKUP($B12,Basisgetallen!$B$8:$K$171,6,FALSE),0) -> 0 | G12: =_xlfn.IFNA(VLOOKUP($B12,Basisgetallen!$B$8:$K$171,7,FALSE),0) -> 0 | H12: =_xlfn.IFNA(VLOOKUP($B12,Basisgetallen!$B$8:$K$171,8,FALSE),0) -> 0 | I12: =_xlfn.IFNA(VLOOKUP($B12,Basisgetallen!$B$8:$K$171,9,FALSE),0) -> 0 | J12: =_xlfn.IFNA(VLOOKUP($B12,Basisgetallen!$B$8:$K$171,10,FALSE),"geen opmerkingen") -> geen opmerkingen
C13: =_xlfn.IFNA(VLOOKUP($B13,Basisgetallen!$B$8:$K$171,3,FALSE)*C$7,0) -> 0 | D13: =_xlfn.IFNA(VLOOKUP($B13,Basisgetallen!$B$8:$K$171,4,FALSE)*D$7,0) -> 0 | E13: =_xlfn.IFNA(VLOOKUP($B13,Basisgetallen!$B$8:$K$171,5,FALSE)*E$7,0) -> 0 | F13: =_xlfn.IFNA(VLOOKUP($B13,Basisgetallen!$B$8:$K$171,6,FALSE),0) -> 0 | G13: =_xlfn.IFNA(VLOOKUP($B13,Basisgetallen!$B$8:$K$171,7,FALSE),0) -> 0 | H13: =_xlfn.IFNA(VLOOKUP($B13,Basisgetallen!$B$8:$K$171,8,FALSE),0) -> 0 | I13: =_xlfn.IFNA(VLOOKUP($B13,Basisgetallen!$B$8:$K$171,9,FALSE),0) -> 0 | J13: =_xlfn.IFNA(VLOOKUP($B13,Basisgetallen!$B$8:$K$171,10,FALSE),"geen opmerkingen") -> geen opmerkingen
C14: =_xlfn.IFNA(VLOOKUP($B14,Basisgetallen!$B$8:$K$171,3,FALSE)*C$7,0) -> 0 | D14: =_xlfn.IFNA(VLOOKUP($B14,Basisgetallen!$B$8:$K$171,4,FALSE)*D$7,0) -> 0 | E14: =_xlfn.IFNA(VLOOKUP($B14,Basisgetallen!$B$8:$K$171,5,FALSE)*E$7,0) -> 0 | F14: =_xlfn.IFNA(VLOOKUP($B14,Basisgetallen!$B$8:$K$171,6,FALSE),0) -> 0 | G14: =_xlfn.IFNA(VLOOKUP($B14,Basisgetallen!$B$8:$K$171,7,FALSE),0) -> 0 | H14: =_xlfn.IFNA(VLOOKUP($B14,Basisgetallen!$B$8:$K$171,8,FALSE),0) -> 0 | I14: =_xlfn.IFNA(VLOOKUP($B14,Basisgetallen!$B$8:$K$171,9,FALSE),0) -> 0 | J14: =_xlfn.IFNA(VLOOKUP($B14,Basisgetallen!$B$8:$K$171,10,FALSE),"geen opmerkingen") -> geen opmerkingen
C15: =_xlfn.IFNA(VLOOKUP($B15,Basisgetallen!$B$8:$K$171,3,FALSE)*C$7,0) -> 0 | D15: =_xlfn.IFNA(VLOOKUP($B15,Basisgetallen!$B$8:$K$171,4,FALSE)*D$7,0) -> 0 | E15: =_xlfn.IFNA(VLOOKUP($B15,Basisgetallen!$B$8:$K$171,5,FALSE)*E$7,0) -> 0 | F15: =_xlfn.IFNA(VLOOKUP($B15,Basisgetallen!$B$8:$K$171,6,FALSE),0) -> 0 | G15: =_xlfn.IFNA(VLOOKUP($B15,Basisgetallen!$B$8:$K$171,7,FALSE),0) -> 0 | H15: =_xlfn.IFNA(VLOOKUP($B15,Basisgetallen!$B$8:$K$171,8,FALSE),0) -> 0 | I15: =_xlfn.IFNA(VLOOKUP($B15,Basisgetallen!$B$8:$K$171,9,FALSE),0) -> 0 | J15: =_xlfn.IFNA(VLOOKUP($B15,Basisgetallen!$B$8:$K$171,10,FALSE),"geen opmerkingen") -> geen opmerkingen
C16: =_xlfn.IFNA(VLOOKUP($B16,Basisgetallen!$B$8:$K$171,3,FALSE)*C$7,0) -> 0 | D16: =_xlfn.IFNA(VLOOKUP($B16,Basisgetallen!$B$8:$K$171,4,FALSE)*D$7,0) -> 0 | E16: =_xlfn.IFNA(VLOOKUP($B16,Basisgetallen!$B$8:$K$171,5,FALSE)*E$7,0) -> 0 | F16: =_xlfn.IFNA(VLOOKUP($B16,Basisgetallen!$B$8:$K$171,6,FALSE),0) -> 0 | G16: =_xlfn.IFNA(VLOOKUP($B16,Basisgetallen!$B$8:$K$171,7,FALSE),0) -> 0 | H16: =_xlfn.IFNA(VLOOKUP($B16,Basisgetallen!$B$8:$K$171,8,FALSE),0) -> 0 | I16: =_xlfn.IFNA(VLOOKUP($B16,Basisgetallen!$B$8:$K$171,9,FALSE),0) -> 0 | J16: =_xlfn.IFNA(VLOOKUP($B16,Basisgetallen!$B$8:$K$171,10,FALSE),"geen opmerkingen") -> geen opmerkingen
C17: =_xlfn.IFNA(VLOOKUP($B17,Basisgetallen!$B$8:$K$171,3,FALSE)*C$7,0) -> 0 | D17: =_xlfn.IFNA(VLOOKUP($B17,Basisgetallen!$B$8:$K$171,4,FALSE)*D$7,0) -> 0 | E17: =_xlfn.IFNA(VLOOKUP($B17,Basisgetallen!$B$8:$K$171,5,FALSE)*E$7,0) -> 0 | F17: =_xlfn.IFNA(VLOOKUP($B17,Basisgetallen!$B$8:$K$171,6,FALSE),0) -> 0 | G17: =_xlfn.IFNA(VLOOKUP($B17,Basisgetallen!$B$8:$K$171,7,FALSE),0) -> 0 | H17: =_xlfn.IFNA(VLOOKUP($B17,Basisgetallen!$B$8:$K$171,8,FALSE),0) -> 0 | I17: =_xlfn.IFNA(VLOOKUP($B17,Basisgetallen!$B$8:$K$171,9,FALSE),0) -> 0 | J17: =_xlfn.IFNA(VLOOKUP($B17,Basisgetallen!$B$8:$K$171,10,FALSE),"geen opmerkingen") -> geen opmerkingen
C18: =_xlfn.IFNA(VLOOKUP($B18,Basisgetallen!$B$8:$K$171,3,FALSE)*C$7,0) -> 0 | D18: =_xlfn.IFNA(VLOOKUP($B18,Basisgetallen!$B$8:$K$171,4,FALSE)*D$7,0) -> 0 | E18: =_xlfn.IFNA(VLOOKUP($B18,Basisgetallen!$B$8:$K$171,5,FALSE)*E$7,0) -> 0 | F18: =_xlfn.IFNA(VLOOKUP($B18,Basisgetallen!$B$8:$K$171,6,FALSE),0) -> 0 | G18: =_xlfn.IFNA(VLOOKUP($B18,Basisgetallen!$B$8:$K$171,7,FALSE),0) -> 0 | H18: =_xlfn.IFNA(VLOOKUP($B18,Basisgetallen!$B$8:$K$171,8,FALSE),0) -> 0 | I18: =_xlfn.IFNA(VLOOKUP($B18,Basisgetallen!$B$8:$K$171,9,FALSE),0) -> 0 | J18: =_xlfn.IFNA(VLOOKUP($B18,Basisgetallen!$B$8:$K$171,10,FALSE),"geen opmerkingen") -> geen opmerkingen
C19: =_xlfn.IFNA(VLOOKUP($B19,Basisgetallen!$B$8:$K$171,3,FALSE)*C$7,0) -> 0 | D19: =_xlfn.IFNA(VLOOKUP($B19,Basisgetallen!$B$8:$K$171,4,FALSE)*D$7,0) -> 0 | E19: =_xlfn.IFNA(VLOOKUP($B19,Basisgetallen!$B$8:$K$171,5,FALSE)*E$7,0) -> 0 | F19: =_xlfn.IFNA(VLOOKUP($B19,Basisgetallen!$B$8:$K$171,6,FALSE),0) -> 0 | G19: =_xlfn.IFNA(VLOOKUP($B19,Basisgetallen!$B$8:$K$171,7,FALSE),0) -> 0 | H19: =_xlfn.IFNA(VLOOKUP($B19,Basisgetallen!$B$8:$K$171,8,FALSE),0) -> 0 | I19: =_xlfn.IFNA(VLOOKUP($B19,Basisgetallen!$B$8:$K$171,9,FALSE),0) -> 0 | J19: =_xlfn.IFNA(VLOOKUP($B19,Basisgetallen!$B$8:$K$171,10,FALSE),"geen opmerkingen") -> geen opmerkingen
C20: =_xlfn.IFNA(VLOOKUP($B20,Basisgetallen!$B$8:$K$171,3,FALSE)*C$7,0) -> 0 | D20: =_xlfn.IFNA(VLOOKUP($B20,Basisgetallen!$B$8:$K$171,4,FALSE)*D$7,0) -> 0 | E20: =_xlfn.IFNA(VLOOKUP($B20,Basisgetallen!$B$8:$K$171,5,FALSE)*E$7,0) -> 0 | F20: =_xlfn.IFNA(VLOOKUP($B20,Basisgetallen!$B$8:$K$171,6,FALSE),0) -> 0 | G20: =_xlfn.IFNA(VLOOKUP($B20,Basisgetallen!$B$8:$K$171,7,FALSE),0) -> 0 | H20: =_xlfn.IFNA(VLOOKUP($B20,Basisgetallen!$B$8:$K$171,8,FALSE),0) -> 0 | I20: =_xlfn.IFNA(VLOOKUP($B20,Basisgetallen!$B$8:$K$171,9,FALSE),0) -> 0 | J20: =_xlfn.IFNA(VLOOKUP($B20,Basisgetallen!$B$8:$K$171,10,FALSE),"geen opmerkingen") -> geen opmerkingen
C21: =_xlfn.IFNA(VLOOKUP($B21,Basisgetallen!$B$8:$K$171,3,FALSE)*C$7,0) -> 0 | D21: =_xlfn.IFNA(VLOOKUP($B21,Basisgetallen!$B$8:$K$171,4,FALSE)*D$7,0) -> 0 | E21: =_xlfn.IFNA(VLOOKUP($B21,Basisgetallen!$B$8:$K$171,5,FALSE)*E$7,0) -> 0 | F21: =_xlfn.IFNA(VLOOKUP($B21,Basisgetallen!$B$8:$K$171,6,FALSE),0) -> 0 | G21: =_xlfn.IFNA(VLOOKUP($B21,Basisgetallen!$B$8:$K$171,7,FALSE),0) -> 0 | H21: =_xlfn.IFNA(VLOOKUP($B21,Basisgetallen!$B$8:$K$171,8,FALSE),0) -> 0 | I21: =_xlfn.IFNA(VLOOKUP($B21,Basisgetallen!$B$8:$K$171,9,FALSE),0) -> 0 | J21: =_xlfn.IFNA(VLOOKUP($B21,Basisgetallen!$B$8:$K$171,10,FALSE),"geen opmerkingen") -> geen opmerkingen
... C25: =_xlfn.IFNA(VLOOKUP($B25,Basisgetallen!$B$8:$K$171,3,FALSE)*C$7,0) -> 0 | D25: =_xlfn.IFNA(VLOOKUP($B25,Basisgetallen!$B$8:$K$171,4,FALSE)*D$7,0) -> 0 | E25: =_xlfn.IFNA(VLOOKUP($B25,Basisgetallen!$B$8:$K$171,5,FALSE)*E$7,0) -> 0 | F25: =_xlfn.IFNA(VLOOKUP($B25,Basisgetallen!$B$8:$K$171,6,FALSE),0) -> 0 | G25: =_xlfn.IFNA(VLOOKUP($B25,Basisgetallen!$B$8:$K$171,7,FALSE),0) -> 0 | H25: =_xlfn.IFNA(VLOOKUP($B25,Basisgetallen!$B$8:$K$171,8,FALSE),0) -> 0 | I25: =_xlfn.IFNA(VLOOKUP($B25,Basisgetallen!$B$8:$K$171,9,FALSE),0) -> 0 | J25: =_xlfn.IFNA(VLOOKUP($B25,Basisgetallen!$B$8:$K$171,10,FALSE),"geen opmerkingen") -> geen opmerkingen
A26: Collectieve warmteprojecten | C26: =_xlfn.IFNA(VLOOKUP($B26,Basisgetallen!$B$8:$K$171,3,FALSE)*C$7,0) -> 0 | D26: =_xlfn.IFNA(VLOOKUP($B26,Basisgetallen!$B$8:$K$171,4,FALSE)*D$7,0) -> 0 | E26: =_xlfn.IFNA(VLOOKUP($B26,Basisgetallen!$B$8:$K$171,5,FALSE)*E$7,0) -> 0 | F26: =_xlfn.IFNA(VLOOKUP($B26,Basisgetallen!$B$8:$K$171,6,FALSE),0) -> 0 | G26: =_xlfn.IFNA(VLOOKUP($B26,Basisgetallen!$B$8:$K$171,7,FALSE),0) -> 0 | H26: =_xlfn.IFNA(VLOOKUP($B26,Basisgetallen!$B$8:$K$171,8,FALSE),0) -> 0 | I26: =_xlfn.IFNA(VLOOKUP($B26,Basisgetallen!$B$8:$K$171,9,FALSE),0) -> 0 | J26: =_xlfn.IFNA(VLOOKUP($B26,Basisgetallen!$B$8:$K$171,10,FALSE),"geen opmerkingen") -> geen opmerkingen
B27: {=(_xlfn.UNIQUE(_xlfn._xlws.FILTER(Basisgetallen!B21:B56,Basisgetallen!B21:B56<>"")))} -> Opvolgen verkaveling Borgt | C27: =_xlfn.IFNA(VLOOKUP($B27,Basisgetallen!$B$8:$K$171,3,FALSE)*C$7,0) -> 4812.5 | D27: =_xlfn.IFNA(VLOOKUP($B27,Basisgetallen!$B$8:$K$171,4,FALSE)*D$7,0) -> 375 | E27: =_xlfn.IFNA(VLOOKUP($B27,Basisgetallen!$B$8:$K$171,5,FALSE)*E$7,0) -> 1218.75 | F27: =_xlfn.IFNA(VLOOKUP($B27,Basisgetallen!$B$8:$K$171,6,FALSE),0) -> 5000 | G27: =_xlfn.IFNA(VLOOKUP($B27,Basisgetallen!$B$8:$K$171,7,FALSE),0) -> 1 | H27: =_xlfn.IFNA(VLOOKUP($B27,Basisgetallen!$B$8:$K$171,8,FALSE),0) -> 0 | I27: =_xlfn.IFNA(VLOOKUP($B27,Basisgetallen!$B$8:$K$171,9,FALSE),0) -> 0 | J27: =_xlfn.IFNA(VLOOKUP($B27,Basisgetallen!$B$8:$K$171,10,FALSE),"geen opmerkingen") -> Tijd voorzien om de loop van het dossier en de communicatie met de ontwikkelaar op te volgen. We voorzien hier ook dat de gemeenten een coördinerende rol opneemt om informatie van Providentia, de school, sporthal, … verzamelt.
B28: Particpatie in de haalbaarheidstudie | C28: =_xlfn.IFNA(VLOOKUP($B28,Basisgetallen!$B$8:$K$171,3,FALSE)*C$7,0) -> 4812.5 | D28: =_xlfn.IFNA(VLOOKUP($B28,Basisgetallen!$B$8:$K$171,4,FALSE)*D$7,0) -> 0 | E28: =_xlfn.IFNA(VLOOKUP($B28,Basisgetallen!$B$8:$K$171,5,FALSE)*E$7,0) -> 0 | F28: =_xlfn.IFNA(VLOOKUP($B28,Basisgetallen!$B$8:$K$171,6,FALSE),0) -> 7500 | G28: =_xlfn.IFNA(VLOOKUP($B28,Basisgetallen!$B$8:$K$171,7,FALSE),0) -> 1 | H28: =_xlfn.IFNA(VLOOKUP($B28,Basisgetallen!$B$8:$K$171,8,FALSE),0) -> 0 | I28: =_xlfn.IFNA(VLOOKUP($B28,Basisgetallen!$B$8:$K$171,9,FALSE),0) -> 0 | J28: =_xlfn.IFNA(VLOOKUP($B28,Basisgetallen!$B$8:$K$171,10,FALSE),"geen opmerkingen") -> Als er een studie naar een warmtenet komt aan Borgt, zal de gemeente daar een aandeel in hebben voor de gebouwen waar zij eigenaar van is. Er is nog geen zicht of en hoe de sociale woonmaatschappij zou kunnen participeren.
B29: Ondersteuning bij het sluiten van een intentieovereenkomst | C29: =_xlfn.IFNA(VLOOKUP($B29,Basisgetallen!$B$8:$K$171,3,FALSE)*C$7,0) -> 2625 | D29: =_xlfn.IFNA(VLOOKUP($B29,Basisgetallen!$B$8:$K$171,4,FALSE)*D$7,0) -> 1875 | E29: =_xlfn.IFNA(VLOOKUP($B29,Basisgetallen!$B$8:$K$171,5,FALSE)*E$7,0) -> 406.25 | F29: =_xlfn.IFNA(VLOOKUP($B29,Basisgetallen!$B$8:$K$171,6,FALSE),0) -> 7500 | G29: =_xlfn.IFNA(VLOOKUP($B29,Basisgetallen!$B$8:$K$171,7,FALSE),0) -> 1 | H29: =_xlfn.IFNA(VLOOKUP($B29,Basisgetallen!$B$8:$K$171,8,FALSE),0) -> 0 | I29: =_xlfn.IFNA(VLOOKUP($B29,Basisgetallen!$B$8:$K$171,9,FALSE),0) -> 0 | J29: =_xlfn.IFNA(VLOOKUP($B29,Basisgetallen!$B$8:$K$171,10,FALSE),"geen opmerkingen") -> Participatie in de externe begeleiding voor het sluiten van een intentieovereenkomst. Voorzien is het volgen van de vergaderingen, voorbereiden van het standpunt van Grimbergen, terugkoppeling met CBS
B30: Opvolgen ontwerpplannen | C30: =_xlfn.IFNA(VLOOKUP($B30,Basisgetallen!$B$8:$K$171,3,FALSE)*C$7,0) -> 875 | D30: =_xlfn.IFNA(VLOOKUP($B30,Basisgetallen!$B$8:$K$171,4,FALSE)*D$7,0) -> 0 | E30: =_xlfn.IFNA(VLOOKUP($B30,Basisgetallen!$B$8:$K$171,5,FALSE)*E$7,0) -> 2031.25 | F30: =_xlfn.IFNA(VLOOKUP($B30,Basisgetallen!$B$8:$K$171,6,FALSE),0) -> 5000 | G30: =_xlfn.IFNA(VLOOKUP($B30,Basisgetallen!$B$8:$K$171,7,FALSE),0) -> 0.5 | H30: =_xlfn.IFNA(VLOOKUP($B30,Basisgetallen!$B$8:$K$171,8,FALSE),0) -> 0 | I30: =_xlfn.IFNA(VLOOKUP($B30,Basisgetallen!$B$8:$K$171,9,FALSE),0) -> 0 | J30: =_xlfn.IFNA(VLOOKUP($B30,Basisgetallen!$B$8:$K$171,10,FALSE),"geen opmerkingen") -> Opvolging van plannen voor interactie met openbaar domein, erfdienstbaarheden, aanpassingen openbaar domein, ….
B31: Opvolgen nieuwe verkavelingen, inbreidingen en andere grote bouwdossiers [jaarkost] | C31: =_xlfn.IFNA(VLOOKUP($B31,Basisgetallen!$B$8:$K$171,3,FALSE)*C$7,0) -> 1750 | D31: =_xlfn.IFNA(VLOOKUP($B31,Basisgetallen!$B$8:$K$171,4,FALSE)*D$7,0) -> 1500 | E31: =_xlfn.IFNA(VLOOKUP($B31,Basisgetallen!$B$8:$K$171,5,FALSE)*E$7,0) -> 0 | F31: =_xlfn.IFNA(VLOOKUP($B31,Basisgetallen!$B$8:$K$171,6,FALSE),0) -> 15000 | G31: =_xlfn.IFNA(VLOOKUP($B31,Basisgetallen!$B$8:$K$171,7,FALSE),0) -> 0.25 | H31: =_xlfn.IFNA(VLOOKUP($B31,Basisgetallen!$B$8:$K$171,8,FALSE),0) -> 0 | I31: =_xlfn.IFNA(VLOOKUP($B31,Basisgetallen!$B$8:$K$171,9,FALSE),0) -> 0 | J31: =_xlfn.IFNA(VLOOKUP($B31,Basisgetallen!$B$8:$K$171,10,FALSE),"geen opmerkingen") -> Screening op warmtepotentiëel van nieuwe grote projecten. Nagaan of er koppelkansen zijn met eigen patrimonium, eventueel intergemeentelijk overleg opzetten, bij kansrijke clusters nauwer opvolgen. 3 nieuwe doessiers per jaar, 1 kansrijk dossier.
B32: Bedrijventerreinen ondersteunen [opstartkost, later te evalueren] | C32: =_xlfn.IFNA(VLOOKUP($B32,Basisgetallen!$B$8:$K$171,3,FALSE)*C$7,0) -> 3062.5 | D32: =_xlfn.IFNA(VLOOKUP($B32,Basisgetallen!$B$8:$K$171,4,FALSE)*D$7,0) -> 1500 | E32: =_xlfn.IFNA(VLOOKUP($B32,Basisgetallen!$B$8:$K$171,5,FALSE)*E$7,0) -> 0 | F32: =_xlfn.IFNA(VLOOKUP($B32,Basisgetallen!$B$8:$K$171,6,FALSE),0) -> 15000 | G32: =_xlfn.IFNA(VLOOKUP($B32,Basisgetallen!$B$8:$K$171,7,FALSE),0) -> 1 | H32: =_xlfn.IFNA(VLOOKUP($B32,Basisgetallen!$B$8:$K$171,8,FALSE),0) -> 0 | I32: =_xlfn.IFNA(VLOOKUP($B32,Basisgetallen!$B$8:$K$171,9,FALSE),0) -> 0 | J32: =_xlfn.IFNA(VLOOKUP($B32,Basisgetallen!$B$8:$K$171,10,FALSE),"geen opmerkingen") -> Bedrijventerreinwerking opvolgen vanuit de discipliine warmte: opstartfase ondersteunen, één samenkomst rond warmteproductie/uitwisseling voorzien. (budget is slechts een onderdeel van de puzzel, opstartkost bedrijventerrein management is afhankelijk van de gewenste beschikbaarheid parkmanager; grootte orde € 50 000 voor 2 jaar aan 30-40% beschikbaarheid)
B33: Afstemming ruimtelijke plannen [per 1 planningsproces] | C33: =_xlfn.IFNA(VLOOKUP($B33,Basisgetallen!$B$8:$K$171,3,FALSE)*C$7,0) -> 4375 | D33: =_xlfn.IFNA(VLOOKUP($B33,Basisgetallen!$B$8:$K$171,4,FALSE)*D$7,0) -> 750 | E33: =_xlfn.IFNA(VLOOKUP($B33,Basisgetallen!$B$8:$K$171,5,FALSE)*E$7,0) -> 0 | F33: =_xlfn.IFNA(VLOOKUP($B33,Basisgetallen!$B$8:$K$171,6,FALSE),0) -> 10000 | G33: =_xlfn.IFNA(VLOOKUP($B33,Basisgetallen!$B$8:$K$171,7,FALSE),0) -> 0.4 | H33: =_xlfn.IFNA(VLOOKUP($B33,Basisgetallen!$B$8:$K$171,8,FALSE),0) -> 0 | I33: =_xlfn.IFNA(VLOOKUP($B33,Basisgetallen!$B$8:$K$171,9,FALSE),0) -> 0 | J33: =_xlfn.IFNA(VLOOKUP($B33,Basisgetallen!$B$8:$K$171,10,FALSE),"geen opmerkingen") -> Bijvoorbeeld het opvolgen van RUPS of beleidsplannen en masterplannen zowel lokaal als op Provinciaal niveau
B34: Eigen vastgoed aansluiten [per 1 publiek gebouw] | C34: =_xlfn.IFNA(VLOOKUP($B34,Basisgetallen!$B$8:$K$171,3,FALSE)*C$7,0) -> 875 | D34: =_xlfn.IFNA(VLOOKUP($B34,Basisgetallen!$B$8:$K$171,4,FALSE)*D$7,0) -> 750 | E34: =_xlfn.IFNA(VLOOKUP($B34,Basisgetallen!$B$8:$K$171,5,FALSE)*E$7,0) -> 812.5 | F34: =_xlfn.IFNA(VLOOKUP($B34,Basisgetallen!$B$8:$K$171,6,FALSE),0) -> 7500 | G34: =_xlfn.IFNA(VLOOKUP($B34,Basisgetallen!$B$8:$K$171,7,FALSE),0) -> 0.1 | H34: =_xlfn.IFNA(VLOOKUP($B34,Basisgetallen!$B$8:$K$171,8,FALSE),0) -> 0 | I34: =_xlfn.IFNA(VLOOKUP($B34,Basisgetallen!$B$8:$K$171,9,FALSE),0) -> 0 | J34: =_xlfn.IFNA(VLOOKUP($B34,Basisgetallen!$B$8:$K$171,10,FALSE),"geen opmerkingen") -> Kost voor het screenen van gebouwen waar gewerkt zal worden, opvolgen van ontwerpkeuzes.
B35: reserve | C35: =_xlfn.IFNA(VLOOKUP($B35,Basisgetallen!$B$8:$K$171,3,FALSE)*C$7,0) -> 0 | D35: =_xlfn.IFNA(VLOOKUP($B35,Basisgetallen!$B$8:$K$171,4,FALSE)*D$7,0) -> 0 | E35: =_xlfn.IFNA(VLOOKUP($B35,Basisgetallen!$B$8:$K$171,5,FALSE)*E$7,0) -> 0 | F35: =_xlfn.IFNA(VLOOKUP($B35,Basisgetallen!$B$8:$K$171,6,FALSE),0) -> 0 | G35: =_xlfn.IFNA(VLOOKUP($B35,Basisgetallen!$B$8:$K$171,7,FALSE),0) -> 1 | H35: =_xlfn.IFNA(VLOOKUP($B35,Basisgetallen!$B$8:$K$171,8,FALSE),0) -> 0 | I35: =_xlfn.IFNA(VLOOKUP($B35,Basisgetallen!$B$8:$K$171,9,FALSE),0) -> 0 | J35: =_xlfn.IFNA(VLOOKUP($B35,Basisgetallen!$B$8:$K$171,10,FALSE),"geen opmerkingen") -> 0
C36: =_xlfn.IFNA(VLOOKUP($B36,Basisgetallen!$B$8:$K$171,3,FALSE)*C$7,0) -> 0 | D36: =_xlfn.IFNA(VLOOKUP($B36,Basisgetallen!$B$8:$K$171,4,FALSE)*D$7,0) -> 0 | E36: =_xlfn.IFNA(VLOOKUP($B36,Basisgetallen!$B$8:$K$171,5,FALSE)*E$7,0) -> 0 | F36: =_xlfn.IFNA(VLOOKUP($B36,Basisgetallen!$B$8:$K$171,6,FALSE),0) -> 0 | G36: =_xlfn.IFNA(VLOOKUP($B36,Basisgetallen!$B$8:$K$171,7,FALSE),0) -> 0 | H36: =_xlfn.IFNA(VLOOKUP($B36,Basisgetallen!$B$8:$K$171,8,FALSE),0) -> 0 | I36: =_xlfn.IFNA(VLOOKUP($B36,Basisgetallen!$B$8:$K$171,9,FALSE),0) -> 0 | J36: =_xlfn.IFNA(VLOOKUP($B36,Basisgetallen!$B$8:$K$171,10,FALSE),"geen opmerkingen") -> geen opmerkingen
C37: =_xlfn.IFNA(VLOOKUP($B37,Basisgetallen!$B$8:$K$171,3,FALSE)*C$7,0) -> 0 | D37: =_xlfn.IFNA(VLOOKUP($B37,Basisgetallen!$B$8:$K$171,4,FALSE)*D$7,0) -> 0 | E37: =_xlfn.IFNA(VLOOKUP($B37,Basisgetallen!$B$8:$K$171,5,FALSE)*E$7,0) -> 0 | F37: =_xlfn.IFNA(VLOOKUP($B37,Basisgetallen!$B$8:$K$171,6,FALSE),0) -> 0 | G37: =_xlfn.IFNA(VLOOKUP($B37,Basisgetallen!$B$8:$K$171,7,FALSE),0) -> 0 | H37: =_xlfn.IFNA(VLOOKUP($B37,Basisgetallen!$B$8:$K$171,8,FALSE),0) -> 0 | I37: =_xlfn.IFNA(VLOOKUP($B37,Basisgetallen!$B$8:$K$171,9,FALSE),0) -> 0 | J37: =_xlfn.IFNA(VLOOKUP($B37,Basisgetallen!$B$8:$K$171,10,FALSE),"geen opmerkingen") -> geen opmerkingen
C38: =_xlfn.IFNA(VLOOKUP($B38,Basisgetallen!$B$8:$K$171,3,FALSE)*C$7,0) -> 0 | D38: =_xlfn.IFNA(VLOOKUP($B38,Basisgetallen!$B$8:$K$171,4,FALSE)*D$7,0) -> 0 | E38: =_xlfn.IFNA(VLOOKUP($B38,Basisgetallen!$B$8:$K$171,5,FALSE)*E$7,0) -> 0 | F38: =_xlfn.IFNA(VLOOKUP($B38,Basisgetallen!$B$8:$K$171,6,FALSE),0) -> 0 | G38: =_xlfn.IFNA(VLOOKUP($B38,Basisgetallen!$B$8:$K$171,7,FALSE),0) -> 0 | H38: =_xlfn.IFNA(VLOOKUP($B38,Basisgetallen!$B$8:$K$171,8,FALSE),0) -> 0 | I38: =_xlfn.IFNA(VLOOKUP($B38,Basisgetallen!$B$8:$K$171,9,FALSE),0) -> 0 | J38: =_xlfn.IFNA(VLOOKUP($B38,Basisgetallen!$B$8:$K$171,10,FALSE),"geen opmerkingen") -> geen opmerkingen
C39: =_xlfn.IFNA(VLOOKUP($B39,Basisgetallen!$B$8:$K$171,3,FALSE)*C$7,0) -> 0 | D39: =_xlfn.IFNA(VLOOKUP($B39,Basisgetallen!$B$8:$K$171,4,FALSE)*D$7,0) -> 0 | E39: =_xlfn.IFNA(VLOOKUP($B39,Basisgetallen!$B$8:$K$171,5,FALSE)*E$7,0) -> 0 | F39: =_xlfn.IFNA(VLOOKUP($B39,Basisgetallen!$B$8:$K$171,6,FALSE),0) -> 0 | G39: =_xlfn.IFNA(VLOOKUP($B39,Basisgetallen!$B$8:$K$171,7,FALSE),0) -> 0 | H39: =_xlfn.IFNA(VLOOKUP($B39,Basisgetallen!$B$8:$K$171,8,FALSE),0) -> 0 | I39: =_xlfn.IFNA(VLOOKUP($B39,Basisgetallen!$B$8:$K$171,9,FALSE),0) -> 0 | J39: =_xlfn.IFNA(VLOOKUP($B39,Basisgetallen!$B$8:$K$171,10,FALSE),"geen opmerkingen") -> geen opmerkingen
C40: =_xlfn.IFNA(VLOOKUP($B40,Basisgetallen!$B$8:$K$171,3,FALSE)*C$7,0) -> 0 | D40: =_xlfn.IFNA(VLOOKUP($B40,Basisgetallen!$B$8:$K$171,4,FALSE)*D$7,0) -> 0 | E40: =_xlfn.IFNA(VLOOKUP($B40,Basisgetallen!$B$8:$K$171,5,FALSE)*E$7,0) -> 0 | F40: =_xlfn.IFNA(VLOOKUP($B40,Basisgetallen!$B$8:$K$171,6,FALSE),0) -> 0 | G40: =_xlfn.IFNA(VLOOKUP($B40,Basisgetallen!$B$8:$K$171,7,FALSE),0) -> 0 | H40: =_xlfn.IFNA(VLOOKUP($B40,Basisgetallen!$B$8:$K$171,8,FALSE),0) -> 0 | I40: =_xlfn.IFNA(VLOOKUP($B40,Basisgetallen!$B$8:$K$171,9,FALSE),0) -> 0 | J40: =_xlfn.IFNA(VLOOKUP($B40,Basisgetallen!$B$8:$K$171,10,FALSE),"geen opmerkingen") -> geen opmerkingen
C41: =_xlfn.IFNA(VLOOKUP($B41,Basisgetallen!$B$8:$K$171,3,FALSE)*C$7,0) -> 0 | D41: =_xlfn.IFNA(VLOOKUP($B41,Basisgetallen!$B$8:$K$171,4,FALSE)*D$7,0) -> 0 | E41: =_xlfn.IFNA(VLOOKUP($B41,Basisgetallen!$B$8:$K$171,5,FALSE)*E$7,0) -> 0 | F41: =_xlfn.IFNA(VLOOKUP($B41,Basisgetallen!$B$8:$K$171,6,FALSE),0) -> 0 | G41: =_xlfn.IFNA(VLOOKUP($B41,Basisgetallen!$B$8:$K$171,7,FALSE),0) -> 0 | H41: =_xlfn.IFNA(VLOOKUP($B41,Basisgetallen!$B$8:$K$171,8,FALSE),0) -> 0 | I41: =_xlfn.IFNA(VLOOKUP($B41,Basisgetallen!$B$8:$K$171,9,FALSE),0) -> 0 | J41: =_xlfn.IFNA(VLOOKUP($B41,Basisgetallen!$B$8:$K$171,10,FALSE),"geen opmerkingen") -> geen opmerkingen
C42: =_xlfn.IFNA(VLOOKUP($B42,Basisgetallen!$B$8:$K$171,3,FALSE)*C$7,0) -> 0 | D42: =_xlfn.IFNA(VLOOKUP($B42,Basisgetallen!$B$8:$K$171,4,FALSE)*D$7,0) -> 0 | E42: =_xlfn.IFNA(VLOOKUP($B42,Basisgetallen!$B$8:$K$171,5,FALSE)*E$7,0) -> 0 | F42: =_xlfn.IFNA(VLOOKUP($B42,Basisgetallen!$B$8:$K$171,6,FALSE),0) -> 0 | G42: =_xlfn.IFNA(VLOOKUP($B42,Basisgetallen!$B$8:$K$171,7,FALSE),0) -> 0 | H42: =_xlfn.IFNA(VLOOKUP($B42,Basisgetallen!$B$8:$K$171,8,FALSE),0) -> 0 | I42: =_xlfn.IFNA(VLOOKUP($B42,Basisgetallen!$B$8:$K$171,9,FALSE),0) -> 0 | J42: =_xlfn.IFNA(VLOOKUP($B42,Basisgetallen!$B$8:$K$171,10,FALSE),"geen opmerkingen") -> geen opmerkingen
C43: =_xlfn.IFNA(VLOOKUP($B43,Basisgetallen!$B$8:$K$171,3,FALSE)*C$7,0) -> 0 | D43: =_xlfn.IFNA(VLOOKUP($B43,Basisgetallen!$B$8:$K$171,4,FALSE)*D$7,0) -> 0 | E43: =_xlfn.IFNA(VLOOKUP($B43,Basisgetallen!$B$8:$K$171,5,FALSE)*E$7,0) -> 0 | F43: =_xlfn.IFNA(VLOOKUP($B43,Basisgetallen!$B$8:$K$171,6,FALSE),0) -> 0 | G43: =_xlfn.IFNA(VLOOKUP($B43,Basisgetallen!$B$8:$K$171,7,FALSE),0) -> 0 | H43: =_xlfn.IFNA(VLOOKUP($B43,Basisgetallen!$B$8:$K$171,8,FALSE),0) -> 0 | I43: =_xlfn.IFNA(VLOOKUP($B43,Basisgetallen!$B$8:$K$171,9,FALSE),0) -> 0 | J43: =_xlfn.IFNA(VLOOKUP($B43,Basisgetallen!$B$8:$K$171,10,FALSE),"geen opmerkingen") -> geen opmerkingen
C44: =_xlfn.IFNA(VLOOKUP($B44,Basisgetallen!$B$8:$K$171,3,FALSE)*C$7,0) -> 0 | D44: =_xlfn.IFNA(VLOOKUP($B44,Basisgetallen!$B$8:$K$171,4,FALSE)*D$7,0) -> 0 | E44: =_xlfn.IFNA(VLOOKUP($B44,Basisgetallen!$B$8:$K$171,5,FALSE)*E$7,0) -> 0 | F44: =_xlfn.IFNA(VLOOKUP($B44,Basisgetallen!$B$8:$K$171,6,FALSE),0) -> 0 | G44: =_xlfn.IFNA(VLOOKUP($B44,Basisgetallen!$B$8:$K$171,7,FALSE),0) -> 0 | H44: =_xlfn.IFNA(VLOOKUP($B44,Basisgetallen!$B$8:$K$171,8,FALSE),0) -> 0 | I44: =_xlfn.IFNA(VLOOKUP($B44,Basisgetallen!$B$8:$K$171,9,FALSE),0) -> 0 | J44: =_xlfn.IFNA(VLOOKUP($B44,Basisgetallen!$B$8:$K$171,10,FALSE),"geen opmerkingen") -> geen opmerkingen
C45: =_xlfn.IFNA(VLOOKUP($B45,Basisgetallen!$B$8:$K$171,3,FALSE)*C$7,0) -> 0 | D45: =_xlfn.IFNA(VLOOKUP($B45,Basisgetallen!$B$8:$K$171,4,FALSE)*D$7,0) -> 0 | E45: =_xlfn.IFNA(VLOOKUP($B45,Basisgetallen!$B$8:$K$171,5,FALSE)*E$7,0) -> 0 | F45: =_xlfn.IFNA(VLOOKUP($B45,Basisgetallen!$B$8:$K$171,6,FALSE),0) -> 0 | G45: =_xlfn.IFNA(VLOOKUP($B45,Basisgetallen!$B$8:$K$171,7,FALSE),0) -> 0 | H45: =_xlfn.IFNA(VLOOKUP($B45,Basisgetallen!$B$8:$K$171,8,FALSE),0) -> 0 | I45: =_xlfn.IFNA(VLOOKUP($B45,Basisgetallen!$B$8:$K$171,9,FALSE),0) -> 0 | J45: =_xlfn.IFNA(VLOOKUP($B45,Basisgetallen!$B$8:$K$171,10,FALSE),"geen opmerkingen") -> geen opmerkingen
C46: =_xlfn.IFNA(VLOOKUP($B46,Basisgetallen!$B$8:$K$171,3,FALSE)*C$7,0) -> 0 | D46: =_xlfn.IFNA(VLOOKUP($B46,Basisgetallen!$B$8:$K$171,4,FALSE)*D$7,0) -> 0 | E46: =_xlfn.IFNA(VLOOKUP($B46,Basisgetallen!$B$8:$K$171,5,FALSE)*E$7,0) -> 0 | F46: =_xlfn.IFNA(VLOOKUP($B46,Basisgetallen!$B$8:$K$171,6,FALSE),0) -> 0 | G46: =_xlfn.IFNA(VLOOKUP($B46,Basisgetallen!$B$8:$K$171,7,FALSE),0) -> 0 | H46: =_xlfn.IFNA(VLOOKUP($B46,Basisgetallen!$B$8:$K$171,8,FALSE),0) -> 0 | I46: =_xlfn.IFNA(VLOOKUP($B46,Basisgetallen!$B$8:$K$171,9,FALSE),0) -> 0 | J46: =_xlfn.IFNA(VLOOKUP($B46,Basisgetallen!$B$8:$K$171,10,FALSE),"geen opmerkingen") -> geen opmerkingen
C47: =_xlfn.IFNA(VLOOKUP($B47,Basisgetallen!$B$8:$K$171,3,FALSE)*C$7,0) -> 0 | D47: =_xlfn.IFNA(VLOOKUP($B47,Basisgetallen!$B$8:$K$171,4,FALSE)*D$7,0) -> 0 | E47: =_xlfn.IFNA(VLOOKUP($B47,Basisgetallen!$B$8:$K$171,5,FALSE)*E$7,0) -> 0 | F47: =_xlfn.IFNA(VLOOKUP($B47,Basisgetallen!$B$8:$K$171,6,FALSE),0) -> 0 | G47: =_xlfn.IFNA(VLOOKUP($B47,Basisgetallen!$B$8:$K$171,7,FALSE),0) -> 0 | H47: =_xlfn.IFNA(VLOOKUP($B47,Basisgetallen!$B$8:$K$171,8,FALSE),0) -> 0 | I47: =_xlfn.IFNA(VLOOKUP($B47,Basisgetallen!$B$8:$K$171,9,FALSE),0) -> 0 | J47: =_xlfn.IFNA(VLOOKUP($B47,Basisgetallen!$B$8:$K$171,10,FALSE),"geen opmerkingen") -> geen opmerkingen
... C62: =_xlfn.IFNA(VLOOKUP($B62,Basisgetallen!$B$8:$K$171,3,FALSE)*C$7,0) -> 0 | D62: =_xlfn.IFNA(VLOOKUP($B62,Basisgetallen!$B$8:$K$171,4,FALSE)*D$7,0) -> 0 | E62: =_xlfn.IFNA(VLOOKUP($B62,Basisgetallen!$B$8:$K$171,5,FALSE)*E$7,0) -> 0 | F62: =_xlfn.IFNA(VLOOKUP($B62,Basisgetallen!$B$8:$K$171,6,FALSE),0) -> 0 | G62: =_xlfn.IFNA(VLOOKUP($B62,Basisgetallen!$B$8:$K$171,7,FALSE),0) -> 0 | H62: =_xlfn.IFNA(VLOOKUP($B62,Basisgetallen!$B$8:$K$171,8,FALSE),0) -> 0 | I62: =_xlfn.IFNA(VLOOKUP($B62,Basisgetallen!$B$8:$K$171,9,FALSE),0) -> 0 | J62: =_xlfn.IFNA(VLOOKUP($B62,Basisgetallen!$B$8:$K$171,10,FALSE),"geen opmerkingen") -> geen opmerkingen
...

Sheet 0_Intro
A1: Introductie TOBUVO: Transition stories' onwijscoole BUdget VOorspeller
A2: Over dit bestand
A3: Opgemaakt door Transition Stories in het kader van de opleidingenreeks "Duurzame warmte" in opdracht van de provincie Antwerpen.
A4: - Auteur: Erik Verbeke en Wouter Cyx
A5: - Contact: info@transitionstories.be
A6: Rechten en gebruik
A7: Dit document wordt ter beschikking gesteld voor de deelnemers aan de opleiding om hen te helpen bij het opmaken van een begroting voor hun gemeente of instantie. Het is niet toegelaten dit bestand te verpreiden of te kopiëren voor gebruik door andere personen of organisaties, op welke manier dan ook. De prijzen in dit document op genomen zijn geraamde prijzen op het moment van samenstelling van dit document, het is mogelijk dat effectieve bedragen sterk kunnen afwijken of dat er fouten in dit bestand slopen. In geen geval kan Transition Stories verantwoordelijk gesteld worden voor eventuele gevolgen van het ongenuanceerd gebruik van dit rekenblad.
A8: Doel van dit bestand:
A9: - Een gefundeerde raming opbouwen voor de beschikbare tijd en doelen van het warmteplan
A10: - De contouren van het jaarprogramma uitwerken en rapporteren
A12: Hoe is dit bestand opgebouwd?
A14: Basisgetallen
... A24: Dit tabblad is in normaal gebruik beveiligd. De gebruiker kan dan enkel waarden en informatie inbrengen op de inputcellen het rode tabblad. De beveiliging heeft tot doel om te vermijden dat de gebruiker onbedoeld wijzigingen aanbrengt in de achterliggende werking/ formulestructuur. De beveiliging is zonder paswoord waardoor de gebruiker deze kan uitschakelen om desgevallend op eigen risico wijzigingen aan te brengen in dit bestand.

Sheet Basisgetallen
B1: Op dit tabblad wordt de raming voor alle onderdelen opgemaakt: Elke naam van een actie wordt gekoppeld aan verschillende kosten. Er zijn 7 kolommen voorzien, waarvan 6 voor kosten en 1 om een reductie door te voeren. In elke categorie is ruimte voorzien om eigen projecten toe te voegen.
B3: Kosten | D3: A | E3: B | F3: C | G3: D | H3: Dbis | I3: E | J3: F
D4: Expert | E4: Deskundige | F4: Andere dienst | G4: Extern | H4: reductiefactor | I4: Interne kosten - niet personeel | J4: Investeringen | K4: Opmerkingen/ beschrijving rekeneenheid
D5: werkdagen | E5: werkdagen | F5: werkdagen | G5: € | I5: € | J5: €
C6: Kostprijs | D6: =70000*1.1/(220*0.8) -> 437.5 | E6: =60000*1.1/(220*0.8) -> 375 | F6: =AVERAGE(D6:E6) -> 406.25
A7: De basis
B8: Vertaling naar strategische beleidskaders (wonen, BP ruimte, enz.) [per beleidskader] | D8: =SUM(D9:D10) -> 6 | E8: =SUM(E9:E10) -> 0 | F8: 0 | G8: 0 | H8: 1 | I8: 0 | J8: 0 | K8: Het opvolgen van de opmaak van één beleidskader door een andere dienst vanuit het thema warmte
C9: opvolgen en verweven van warmte-thema bij de opmaak van parallelle beleidsplannen (wonen, ruimte, lokale economie, …) | D9: 6 | E9: 0
B11: reserve | D11: =SUM(D12:D14) -> 0 | E11: =SUM(E12:E14) -> 0 | F11: =SUM(F12:F14) -> 0 | G11: =SUM(G12:G14) -> 0 | H11: 1 | I11: 0 | J11: 0
C12: taak 1
C13: taak 2
C14: taak 3
B16: reserve | D16: =SUM(D17:D19) -> 0 | E16: =SUM(E17:E19) -> 0 | F16: =SUM(F17:F19) -> 0 | G16: =SUM(G17:G19) -> 0 | H16: 1 | I16: 0 | J16: 0
C17: taak 1
C18: taak 2
C19: taak 3
A20: Collectieve warmteprojecten
B21: Opvolgen verkaveling Borgt | D21: =SUM(D22:D25) -> 11 | E21: =SUM(E22:E25) -> 1 | F21: =SUM(F22:F25) -> 3 | G21: 5000 | H21: 1 | K21: Tijd voorzien om de loop van het dossier en de communicatie met de ontwikkelaar op te volgen. We voorzien hier ook dat de gemeenten een coördinerende rol opneemt om informatie van Providentia, de school, sporthal, … verzamelt.
C22: Interne opvolging procedure | D22: 3 | E22: 0 | F22: 0
C23: Samenzoeken informatie (verbruiken, profielen, …) | D23: 4 | E23: 1 | F23: 0
C24: x | D24: 0 | E24: 0 | F24: 0
C25: Contacten met andere overheden (Vilvoorde, Vlaamse waterweg,…) | D25: 4 | E25: 0 | F25: 3
B26: Particpatie in de haalbaarheidstudie | D26: =SUM(D27:D29) -> 11 | E26: =SUM(E27:E29) -> 0 | F26: =SUM(F27:F29) -> 0 | G26: 7500 | H26: 1 | K26: Als er een studie naar een warmtenet komt aan Borgt, zal de gemeente daar een aandeel in hebben voor de gebouwen waar zij eigenaar van is. Er is nog geen zicht of en hoe de sociale woonmaatschappij zou kunnen participeren.
C27: Voorbereiding | D27: 4 | E27: 0
C28: Uitvoering en opvolging | D28: 5 | E28: 0
C29: Afronding en interne communicatie | D29: 2
B30: Ondersteuning bij het sluiten van een intentieovereenkomst | D30: =SUM(D31:D33) -> 6 | E30: =SUM(E31:E33) -> 5 | F30: =SUM(F31:F33) -> 1 | G30: 7500 | H30: 1 | K30: Participatie in de externe begeleiding voor het sluiten van een intentieovereenkomst. Voorzien is het volgen van de vergaderingen, voorbereiden van het standpunt van Grimbergen, terugkoppeling met CBS
C31: Samenbrengen partners | D31: 0.5 | E31: 1 | F31: 0
C32: opvolgen opmaak overeenkomst | D32: 5 | E32: 3 | F32: 0
C33: persmoment/publicatie | D33: 0.5 | E33: 1 | F33: 1
B34: Opvolgen ontwerpplannen | D34: =SUM(D35) -> 2 | E34: =SUM(E35) -> 0 | F34: =SUM(F35) -> 5 | G34: 5000 | H34: 0.5 | K34: Opvolging van plannen voor interactie met openbaar domein, erfdienstbaarheden, aanpassingen openbaar domein, ….
C35: Opvolgen en afstemmen met planning Wegen en water | D35: 2 | E35: 0 | F35: 5
B36: Opvolgen nieuwe verkavelingen, inbreidingen en andere grote bouwdossiers [jaarkost] | D36: =SUM(D37:D38) -> 4 | E36: =SUM(E37:E38) -> 4 | F36: =SUM(F37:F38) -> 0 | G36: 15000 | H36: 0.25 | K36: Screening op warmtepotentiëel van nieuwe grote projecten. Nagaan of er koppelkansen zijn met eigen patrimonium, eventueel intergemeentelijk overleg opzetten, bij kansrijke clusters nauwer opvolgen. 3 nieuwe doessiers per jaar, 1 kansrijk dossier.
C37: Screenen van binnenkomende dossiers | D37: 2 | E37: 3 | F37: 0
C38: Opvolgen van één kansrijke dossier/jaar | D38: 2 | E38: 1 | F38: 0
B39: Bedrijventerreinen ondersteunen [opstartkost, later te evalueren] | D39: =SUM(D40:D41) -> 7 | E39: =SUM(E40:E41) -> 4 | F39: =SUM(F40:F41) -> 0 | G39: 15000 | H39: 1 | K39: Bedrijventerreinwerking opvolgen vanuit de discipliine warmte: opstartfase ondersteunen, één samenkomst rond warmteproductie/uitwisseling voorzien. (budget is slechts een onderdeel van de puzzel, opstartkost bedrijventerrein management is afhankelijk van de gewenste beschikbaarheid parkmanager; grootte orde € 50 000 voor 2 jaar aan 30-40% beschikbaarheid)
C40: Participatie in de opstart van bedrijventerrreinwerking | D40: 2 | E40: 1 | F40: 0
C41: Organisatie van één samenkomst rond warmteproductie/uitwisseling | D41: 5 | E41: 3 | F41: 0
B42: Afstemming ruimtelijke plannen [per 1 planningsproces] | D42: =SUM(D43:D44) -> 10 | E42: =SUM(E43:E44) -> 2 | F42: =SUM(F43:F44) -> 0 | G42: 10000 | H42: 0.4 | K42: Bijvoorbeeld het opvolgen van RUPS of beleidsplannen en masterplannen zowel lokaal als op Provinciaal niveau
C43: Opvolgen lopende studies op kansen voor collectieve warmte | D43: 2 | E43: 2 | F43: 0
...

Sheet Portefeuilleraming
A1: Programma en Warmtebeleid
A2: Periode: 1 legislatuur (= 6 kalenderjaren) | D2: GEBRUIKERSTIPS: Vul in de oranje cellen de vermoedelijke hoeveelheden in. Eventuele verduidelijkingen vind je in tabblad M4_Basisgetallen. Start met 1 scenario: welke acties moeten er gebeuren in de komende legislatuur? Vervolgens kan je in Scenario 2 en 3 varianten uitwerken (klap eventueel kolom B uit voor meer uitleg bij elke taak) | J2: Werkdagen/onderdeel | M2: Kosten_detail
A3: samenstelling programma warmtebeleid | B3: Opmerking | C3: Hoe hoeveel je hiervan nodig hebt? | D3: Scenario 1 | F3: Scenario 2 | H3: Scenario 3 | J3: Scenario1 | K3: Scenario2 | L3: Scenario3 | M3: Scenario 1 | T3: Scenario 2 | AA3: Scenario 3
A4: Pijler: | D4: Aantal | E4: Extern (0 of 1) | F4: Aantal | G4: Extern (0 of 1) | H4: Aantal | I4: Extern (0 of 1) | M4: =M4_PR_Lijsten!C6 -> Expert | N4: =M4_PR_Lijsten!D6 -> Deskundige | O4: =M4_PR_Lijsten!E6 -> Andere dienst | P4: =M4_PR_Lijsten!F6 -> Extern | Q4: =M4_PR_Lijsten!G6 -> reductiefactor | R4: =M4_PR_Lijsten!H6 -> Interne kosten - niet personeel | S4: =M4_PR_Lijsten!I6 -> Investeringen | T4: =M4 -> Expert | U4: =N4 -> Deskundige | V4: =O4 -> Andere dienst | W4: =P4 -> Extern | X4: =Q4 -> reductiefactor | Y4: =R4 -> Interne kosten - niet personeel | Z4: =S4 -> Investeringen | AA4: =T4 -> Expert | ... AG4: =Z4 -> Investeringen
A5: De basis | J5: =SUM(M6:M13)/$M$5+SUM(N6:N13)/$N$5+SUM(O6:O13)/$O$5 -> 6 | K5: =SUM(T6:T13)/$M$5+SUM(U6:U13)/$N$5+SUM(V6:V13)/$O$5 -> 0 | L5: =SUM(AA6:AA13)/$M$5+SUM(AB6:AB13)/$N$5+SUM(AC6:AC13)/$O$5 -> 0 | M5: =Basisgetallen!D6 -> 437.5 | N5: =Basisgetallen!E6 -> 375 | O5: =Basisgetallen!F6 -> 406.25 | T5: =M5 -> 437.5 | U5: =N5 -> 375 | V5: =O5 -> 406.25 | AA5: =M5 -> 437.5 | AB5: =N5 -> 375 | AC5: =O5 -> 406.25
A6: {=M4_PR_Lijsten!B8:B15} -> Vertaling naar strategische beleidskaders (wonen, BP ruimte, enz.) [per beleidskader] | B6: =_xlfn.IFNA(VLOOKUP(A6,M4_PR_Lijsten!$B$8:$J$177,9,FALSE),"geen opmerking") -> Het opvolgen van de opmaak van één beleidskader door een andere dienst vanuit het thema warmte | C6: Bouw deze stap zeker in als je nog geen goed zicht hebt op wat er allemaal kan in je gemeente. Zo voorkom je te algemene vragen te stellen in bestekken. | D6: 1 | M6: =_xlfn.IFNA(D6*VLOOKUP(A6,M4_PR_Lijsten!$B$8:$I$177,2,FALSE)*IF(E6=1,Q6,1),0) -> 2625 | N6: =_xlfn.IFNA(D6*VLOOKUP(A6,M4_PR_Lijsten!$B$8:$I$177,3,FALSE)*IF(E6=1,Q6,1),0) -> 0 | O6: =_xlfn.IFNA(D6*VLOOKUP(A6,M4_PR_Lijsten!$B$8:$I$177,4,FALSE)*IF(E6=1,Q6,1),0) -> 0 | P6: =_xlfn.IFNA(D6*VLOOKUP(A6,M4_PR_Lijsten!$B$8:$I$177,5,FALSE)*IF(E6=1,1,0),0) -> 0 | Q6: =_xlfn.IFNA(VLOOKUP(A6,M4_PR_Lijsten!$B$8:$I$177,6,FALSE),0) -> 1 | R6: =_xlfn.IFNA(D6*VLOOKUP(A6,M4_PR_Lijsten!$B$8:$I$177,7,FALSE),0) -> 0 | S6: =_xlfn.IFNA(D6*VLOOKUP(A6,M4_PR_Lijsten!$B$8:$I$177,8,FALSE),0) -> 0 | T6: =_xlfn.IFNA($F6*VLOOKUP($A6,M4_PR_Lijsten!$B$8:$I$177,2,FALSE)*IF($G6=1,$X6,1),0) -> 0 | U6: =_xlfn.IFNA($F6*VLOOKUP($A6,M4_PR_Lijsten!$B$8:$I$177,3,FALSE)*IF($G6=1,$X6,1),0) -> 0 | V6: =_xlfn.IFNA($F6*VLOOKUP($A6,M4_PR_Lijsten!$B$8:$I$177,4,FALSE)*IF($E6=1,$Q6,1),0) -> 0 | W6: =_xlfn.IFNA($F6*VLOOKUP($A6,M4_PR_Lijsten!$B$8:$I$177,5,FALSE)*IF(G6=1,1,0),0) -> 0 | X6: =_xlfn.IFNA(VLOOKUP($A6,M4_PR_Lijsten!$B$8:$I$177,6,FALSE),0) -> 1 | Y6: =_xlfn.IFNA($F6*VLOOKUP($A6,M4_PR_Lijsten!$B$8:$I$177,7,FALSE),0) -> 0 | Z6: =_xlfn.IFNA($F6*VLOOKUP($A6,M4_PR_Lijsten!$B$8:$I$177,8,FALSE),0) -> 0 | AA6: =_xlfn.IFNA($H6*VLOOKUP($A6,M4_PR_Lijsten!$B$8:$I$177,2,FALSE)*IF($I6=1,$AE6,1),0) -> 0 | AB6: =_xlfn.IFNA($H6*VLOOKUP($A6,M4_PR_Lijsten!$B$8:$I$177,3,FALSE)*IF($I6=1,$AE6,1),0) -> 0 | AC6: =_xlfn.IFNA($H6*VLOOKUP($A6,M4_PR_Lijsten!$B$8:$I$177,4,FALSE)*IF($I6=1,$AE6,1),0) -> 0 | AD6: =_xlfn.IFNA($H6*VLOOKUP($A6,M4_PR_Lijsten!$B$8:$I$177,5,FALSE)*IF(I6=1,1,0),0) -> 0 | AE6: =_xlfn.IFNA(VLOOKUP($A6,M4_PR_Lijsten!$B$8:$I$177,6,FALSE),0) -> 1 | AF6: =_xlfn.IFNA($H6*VLOOKUP($A6,M4_PR_Lijsten!$B$8:$I$177,7,FALSE),0) -> 0 | AG6: =_xlfn.IFNA($H6*VLOOKUP($A6,M4_PR_Lijsten!$B$8:$I$177,8,FALSE),0) -> 0
A7: reserve | B7: =_xlfn.IFNA(VLOOKUP(A7,M4_PR_Lijsten!$B$8:$J$177,9,FALSE),"geen opmerking") -> 0 | C7: Een voorwaarde uit het LEKP 1,0 tegen 2030 | D7: 0 | M7: =_xlfn.IFNA(D7*VLOOKUP(A7,M4_PR_Lijsten!$B$8:$I$177,2,FALSE)*IF(E7=1,Q7,1),0) -> 0 | N7: =_xlfn.IFNA(D7*VLOOKUP(A7,M4_PR_Lijsten!$B$8:$I$177,3,FALSE)*IF(E7=1,Q7,1),0) -> 0 | O7: =_xlfn.IFNA(D7*VLOOKUP(A7,M4_PR_Lijsten!$B$8:$I$177,4,FALSE)*IF(E7=1,Q7,1),0) -> 0 | P7: =_xlfn.IFNA(D7*VLOOKUP(A7,M4_PR_Lijsten!$B$8:$I$177,5,FALSE)*IF(E7=1,1,0),0) -> 0 | Q7: =_xlfn.IFNA(VLOOKUP(A7,M4_PR_Lijsten!$B$8:$I$177,6,FALSE),0) -> 1 | R7: =_xlfn.IFNA(D7*VLOOKUP(A7,M4_PR_Lijsten!$B$8:$I$177,7,FALSE),0) -> 0 | S7: =_xlfn.IFNA(D7*VLOOKUP(A7,M4_PR_Lijsten!$B$8:$I$177,8,FALSE),0) -> 0 | T7: =_xlfn.IFNA($F7*VLOOKUP($A7,M4_PR_Lijsten!$B$8:$I$177,2,FALSE)*IF($G7=1,$X7,1),0) -> 0 | U7: =_xlfn.IFNA($F7*VLOOKUP($A7,M4_PR_Lijsten!$B$8:$I$177,3,FALSE)*IF($G7=1,$X7,1),0) -> 0 | V7: =_xlfn.IFNA($F7*VLOOKUP($A7,M4_PR_Lijsten!$B$8:$I$177,4,FALSE)*IF($E7=1,$Q7,1),0) -> 0 | W7: =_xlfn.IFNA($F7*VLOOKUP($A7,M4_PR_Lijsten!$B$8:$I$177,5,FALSE)*IF(G7=1,1,0),0) -> 0 | X7: =_xlfn.IFNA(VLOOKUP($A7,M4_PR_Lijsten!$B$8:$I$177,6,FALSE),0) -> 1 | Y7: =_xlfn.IFNA($F7*VLOOKUP($A7,M4_PR_Lijsten!$B$8:$I$177,7,FALSE),0) -> 0 | Z7: =_xlfn.IFNA($F7*VLOOKUP($A7,M4_PR_Lijsten!$B$8:$I$177,8,FALSE),0) -> 0 | AA7: =_xlfn.IFNA($H7*VLOOKUP($A7,M4_PR_Lijsten!$B$8:$I$177,2,FALSE)*IF($I7=1,$AE7,1),0) -> 0 | AB7: =_xlfn.IFNA($H7*VLOOKUP($A7,M4_PR_Lijsten!$B$8:$I$177,3,FALSE)*IF($I7=1,$AE7,1),0) -> 0 | AC7: =_xlfn.IFNA($H7*VLOOKUP($A7,M4_PR_Lijsten!$B$8:$I$177,4,FALSE)*IF($I7=1,$AE7,1),0) -> 0 | AD7: =_xlfn.IFNA($H7*VLOOKUP($A7,M4_PR_Lijsten!$B$8:$I$177,5,FALSE)*IF(I7=1,1,0),0) -> 0 | AE7: =_xlfn.IFNA(VLOOKUP($A7,M4_PR_Lijsten!$B$8:$I$177,6,FALSE),0) -> 1 | AF7: =_xlfn.IFNA($H7*VLOOKUP($A7,M4_PR_Lijsten!$B$8:$I$177,7,FALSE),0) -> 0 | AG7: =_xlfn.IFNA($H7*VLOOKUP($A7,M4_PR_Lijsten!$B$8:$I$177,8,FALSE),0) -> 0
A8: 0 | B8: =_xlfn.IFNA(VLOOKUP(A8,M4_PR_Lijsten!$B$8:$J$177,9,FALSE),"geen opmerking") -> geen opmerking | D8: 0 | M8: =_xlfn.IFNA(D8*VLOOKUP(A8,M4_PR_Lijsten!$B$8:$I$177,2,FALSE)*IF(E8=1,Q8,1),0) -> 0 | N8: =_xlfn.IFNA(D8*VLOOKUP(A8,M4_PR_Lijsten!$B$8:$I$177,3,FALSE)*IF(E8=1,Q8,1),0) -> 0 | O8: =_xlfn.IFNA(D8*VLOOKUP(A8,M4_PR_Lijsten!$B$8:$I$177,4,FALSE)*IF(E8=1,Q8,1),0) -> 0 | P8: =_xlfn.IFNA(D8*VLOOKUP(A8,M4_PR_Lijsten!$B$8:$I$177,5,FALSE)*IF(E8=1,1,0),0) -> 0 | Q8: =_xlfn.IFNA(VLOOKUP(A8,M4_PR_Lijsten!$B$8:$I$177,6,FALSE),0) -> 0 | R8: =_xlfn.IFNA(D8*VLOOKUP(A8,M4_PR_Lijsten!$B$8:$I$177,7,FALSE),0) -> 0 | S8: =_xlfn.IFNA(D8*VLOOKUP(A8,M4_PR_Lijsten!$B$8:$I$177,8,FALSE),0) -> 0 | T8: =_xlfn.IFNA($F8*VLOOKUP($A8,M4_PR_Lijsten!$B$8:$I$177,2,FALSE)*IF($G8=1,$X8,1),0) -> 0 | U8: =_xlfn.IFNA($F8*VLOOKUP($A8,M4_PR_Lijsten!$B$8:$I$177,3,FALSE)*IF($G8=1,$X8,1),0) -> 0 | V8: =_xlfn.IFNA($F8*VLOOKUP($A8,M4_PR_Lijsten!$B$8:$I$177,4,FALSE)*IF($E8=1,$Q8,1),0) -> 0 | W8: =_xlfn.IFNA($F8*VLOOKUP($A8,M4_PR_Lijsten!$B$8:$I$177,5,FALSE)*IF(G8=1,1,0),0) -> 0 | X8: =_xlfn.IFNA(VLOOKUP($A8,M4_PR_Lijsten!$B$8:$I$177,6,FALSE),0) -> 0 | Y8: =_xlfn.IFNA($F8*VLOOKUP($A8,M4_PR_Lijsten!$B$8:$I$177,7,FALSE),0) -> 0 | Z8: =_xlfn.IFNA($F8*VLOOKUP($A8,M4_PR_Lijsten!$B$8:$I$177,8,FALSE),0) -> 0 | AA8: =_xlfn.IFNA($H8*VLOOKUP($A8,M4_PR_Lijsten!$B$8:$I$177,2,FALSE)*IF($I8=1,$AE8,1),0) -> 0 | AB8: =_xlfn.IFNA($H8*VLOOKUP($A8,M4_PR_Lijsten!$B$8:$I$177,3,FALSE)*IF($I8=1,$AE8,1),0) -> 0 | AC8: =_xlfn.IFNA($H8*VLOOKUP($A8,M4_PR_Lijsten!$B$8:$I$177,4,FALSE)*IF($I8=1,$AE8,1),0) -> 0 | AD8: =_xlfn.IFNA($H8*VLOOKUP($A8,M4_PR_Lijsten!$B$8:$I$177,5,FALSE)*IF(I8=1,1,0),0) -> 0 | AE8: =_xlfn.IFNA(VLOOKUP($A8,M4_PR_Lijsten!$B$8:$I$177,6,FALSE),0) -> 0 | AF8: =_xlfn.IFNA($H8*VLOOKUP($A8,M4_PR_Lijsten!$B$8:$I$177,7,FALSE),0) -> 0 | AG8: =_xlfn.IFNA($H8*VLOOKUP($A8,M4_PR_Lijsten!$B$8:$I$177,8,FALSE),0) -> 0
A9: 0 | B9: =_xlfn.IFNA(VLOOKUP(A9,M4_PR_Lijsten!$B$8:$J$177,9,FALSE),"geen opmerking") -> geen opmerking | M9: =_xlfn.IFNA(D9*VLOOKUP(A9,M4_PR_Lijsten!$B$8:$I$177,2,FALSE)*IF(E9=1,Q9,1),0) -> 0 | N9: =_xlfn.IFNA(D9*VLOOKUP(A9,M4_PR_Lijsten!$B$8:$I$177,3,FALSE)*IF(E9=1,Q9,1),0) -> 0 | O9: =_xlfn.IFNA(D9*VLOOKUP(A9,M4_PR_Lijsten!$B$8:$I$177,4,FALSE)*IF(E9=1,Q9,1),0) -> 0 | P9: =_xlfn.IFNA(D9*VLOOKUP(A9,M4_PR_Lijsten!$B$8:$I$177,5,FALSE)*IF(E9=1,1,0),0) -> 0 | Q9: =_xlfn.IFNA(VLOOKUP(A9,M4_PR_Lijsten!$B$8:$I$177,6,FALSE),0) -> 0 | R9: =_xlfn.IFNA(D9*VLOOKUP(A9,M4_PR_Lijsten!$B$8:$I$177,7,FALSE),0) -> 0 | S9: =_xlfn.IFNA(D9*VLOOKUP(A9,M4_PR_Lijsten!$B$8:$I$177,8,FALSE),0) -> 0 | T9: =_xlfn.IFNA($F9*VLOOKUP($A9,M4_PR_Lijsten!$B$8:$I$177,2,FALSE)*IF($G9=1,$X9,1),0) -> 0 | U9: =_xlfn.IFNA($F9*VLOOKUP($A9,M4_PR_Lijsten!$B$8:$I$177,3,FALSE)*IF($G9=1,$X9,1),0) -> 0 | V9: =_xlfn.IFNA($F9*VLOOKUP($A9,M4_PR_Lijsten!$B$8:$I$177,4,FALSE)*IF($E9=1,$Q9,1),0) -> 0 | W9: =_xlfn.IFNA($F9*VLOOKUP($A9,M4_PR_Lijsten!$B$8:$I$177,5,FALSE)*IF(G9=1,1,0),0) -> 0 | X9: =_xlfn.IFNA(VLOOKUP($A9,M4_PR_Lijsten!$B$8:$I$177,6,FALSE),0) -> 0 | Y9: =_xlfn.IFNA($F9*VLOOKUP($A9,M4_PR_Lijsten!$B$8:$I$177,7,FALSE),0) -> 0 | Z9: =_xlfn.IFNA($F9*VLOOKUP($A9,M4_PR_Lijsten!$B$8:$I$177,8,FALSE),0) -> 0 | AA9: =_xlfn.IFNA($H9*VLOOKUP($A9,M4_PR_Lijsten!$B$8:$I$177,2,FALSE)*IF($I9=1,$AE9,1),0) -> 0 | AB9: =_xlfn.IFNA($H9*VLOOKUP($A9,M4_PR_Lijsten!$B$8:$I$177,3,FALSE)*IF($I9=1,$AE9,1),0) -> 0 | AC9: =_xlfn.IFNA($H9*VLOOKUP($A9,M4_PR_Lijsten!$B$8:$I$177,4,FALSE)*IF($I9=1,$AE9,1),0) -> 0 | AD9: =_xlfn.IFNA($H9*VLOOKUP($A9,M4_PR_Lijsten!$B$8:$I$177,5,FALSE)*IF(I9=1,1,0),0) -> 0 | AE9: =_xlfn.IFNA(VLOOKUP($A9,M4_PR_Lijsten!$B$8:$I$177,6,FALSE),0) -> 0 | AF9: =_xlfn.IFNA($H9*VLOOKUP($A9,M4_PR_Lijsten!$B$8:$I$177,7,FALSE),0) -> 0 | AG9: =_xlfn.IFNA($H9*VLOOKUP($A9,M4_PR_Lijsten!$B$8:$I$177,8,FALSE),0) -> 0
A10: 0 | B10: =_xlfn.IFNA(VLOOKUP(A10,M4_PR_Lijsten!$B$8:$J$177,9,FALSE),"geen opmerking") -> geen opmerking | M10: =_xlfn.IFNA(D10*VLOOKUP(A10,M4_PR_Lijsten!$B$8:$I$177,2,FALSE)*IF(E10=1,Q10,1),0) -> 0 | N10: =_xlfn.IFNA(D10*VLOOKUP(A10,M4_PR_Lijsten!$B$8:$I$177,3,FALSE)*IF(E10=1,Q10,1),0) -> 0 | O10: =_xlfn.IFNA(D10*VLOOKUP(A10,M4_PR_Lijsten!$B$8:$I$177,4,FALSE)*IF(E10=1,Q10,1),0) -> 0 | P10: =_xlfn.IFNA(D10*VLOOKUP(A10,M4_PR_Lijsten!$B$8:$I$177,5,FALSE)*IF(E10=1,1,0),0) -> 0 | Q10: =_xlfn.IFNA(VLOOKUP(A10,M4_PR_Lijsten!$B$8:$I$177,6,FALSE),0) -> 0 | R10: =_xlfn.IFNA(D10*VLOOKUP(A10,M4_PR_Lijsten!$B$8:$I$177,7,FALSE),0) -> 0 | S10: =_xlfn.IFNA(D10*VLOOKUP(A10,M4_PR_Lijsten!$B$8:$I$177,8,FALSE),0) -> 0 | T10: =_xlfn.IFNA($F10*VLOOKUP($A10,M4_PR_Lijsten!$B$8:$I$177,2,FALSE)*IF($G10=1,$X10,1),0) -> 0 | U10: =_xlfn.IFNA($F10*VLOOKUP($A10,M4_PR_Lijsten!$B$8:$I$177,3,FALSE)*IF($G10=1,$X10,1),0) -> 0 | V10: =_xlfn.IFNA($F10*VLOOKUP($A10,M4_PR_Lijsten!$B$8:$I$177,4,FALSE)*IF($E10=1,$Q10,1),0) -> 0 | W10: =_xlfn.IFNA($F10*VLOOKUP($A10,M4_PR_Lijsten!$B$8:$I$177,5,FALSE)*IF(G10=1,1,0),0) -> 0 | X10: =_xlfn.IFNA(VLOOKUP($A10,M4_PR_Lijsten!$B$8:$I$177,6,FALSE),0) -> 0 | Y10: =_xlfn.IFNA($F10*VLOOKUP($A10,M4_PR_Lijsten!$B$8:$I$177,7,FALSE),0) -> 0 | Z10: =_xlfn.IFNA($F10*VLOOKUP($A10,M4_PR_Lijsten!$B$8:$I$177,8,FALSE),0) -> 0 | AA10: =_xlfn.IFNA($H10*VLOOKUP($A10,M4_PR_Lijsten!$B$8:$I$177,2,FALSE)*IF($I10=1,$AE10,1),0) -> 0 | AB10: =_xlfn.IFNA($H10*VLOOKUP($A10,M4_PR_Lijsten!$B$8:$I$177,3,FALSE)*IF($I10=1,$AE10,1),0) -> 0 | AC10: =_xlfn.IFNA($H10*VLOOKUP($A10,M4_PR_Lijsten!$B$8:$I$177,4,FALSE)*IF($I10=1,$AE10,1),0) -> 0 | AD10: =_xlfn.IFNA($H10*VLOOKUP($A10,M4_PR_Lijsten!$B$8:$I$177,5,FALSE)*IF(I10=1,1,0),0) -> 0 | AE10: =_xlfn.IFNA(VLOOKUP($A10,M4_PR_Lijsten!$B$8:$I$177,6,FALSE),0) -> 0 | AF10: =_xlfn.IFNA($H10*VLOOKUP($A10,M4_PR_Lijsten!$B$8:$I$177,7,FALSE),0) -> 0 | AG10: =_xlfn.IFNA($H10*VLOOKUP($A10,M4_PR_Lijsten!$B$8:$I$177,8,FALSE),0) -> 0
A11: 0 | B11: =_xlfn.IFNA(VLOOKUP(A11,M4_PR_Lijsten!$B$8:$J$177,9,FALSE),"geen opmerking") -> geen opmerking | M11: =_xlfn.IFNA(D11*VLOOKUP(A11,M4_PR_Lijsten!$B$8:$I$177,2,FALSE)*IF(E11=1,Q11,1),0) -> 0 | N11: =_xlfn.IFNA(D11*VLOOKUP(A11,M4_PR_Lijsten!$B$8:$I$177,3,FALSE)*IF(E11=1,Q11,1),0) -> 0 | O11: =_xlfn.IFNA(D11*VLOOKUP(A11,M4_PR_Lijsten!$B$8:$I$177,4,FALSE)*IF(E11=1,Q11,1),0) -> 0 | P11: =_xlfn.IFNA(D11*VLOOKUP(A11,M4_PR_Lijsten!$B$8:$I$177,5,FALSE)*IF(E11=1,1,0),0) -> 0 | Q11: =_xlfn.IFNA(VLOOKUP(A11,M4_PR_Lijsten!$B$8:$I$177,6,FALSE),0) -> 0 | R11: =_xlfn.IFNA(D11*VLOOKUP(A11,M4_PR_Lijsten!$B$8:$I$177,7,FALSE),0) -> 0 | S11: =_xlfn.IFNA(D11*VLOOKUP(A11,M4_PR_Lijsten!$B$8:$I$177,8,FALSE),0) -> 0 | T11: =_xlfn.IFNA($F11*VLOOKUP($A11,M4_PR_Lijsten!$B$8:$I$177,2,FALSE)*IF($G11=1,$X11,1),0) -> 0 | U11: =_xlfn.IFNA($F11*VLOOKUP($A11,M4_PR_Lijsten!$B$8:$I$177,3,FALSE)*IF($G11=1,$X11,1),0) -> 0 | V11: =_xlfn.IFNA($F11*VLOOKUP($A11,M4_PR_Lijsten!$B$8:$I$177,4,FALSE)*IF($E11=1,$Q11,1),0) -> 0 | W11: =_xlfn.IFNA($F11*VLOOKUP($A11,M4_PR_Lijsten!$B$8:$I$177,5,FALSE)*IF(G11=1,1,0),0) -> 0 | X11: =_xlfn.IFNA(VLOOKUP($A11,M4_PR_Lijsten!$B$8:$I$177,6,FALSE),0) -> 0 | Y11: =_xlfn.IFNA($F11*VLOOKUP($A11,M4_PR_Lijsten!$B$8:$I$177,7,FALSE),0) -> 0 | Z11: =_xlfn.IFNA($F11*VLOOKUP($A11,M4_PR_Lijsten!$B$8:$I$177,8,FALSE),0) -> 0 | AA11: =_xlfn.IFNA($H11*VLOOKUP($A11,M4_PR_Lijsten!$B$8:$I$177,2,FALSE)*IF($I11=1,$AE11,1),0) -> 0 | AB11: =_xlfn.IFNA($H11*VLOOKUP($A11,M4_PR_Lijsten!$B$8:$I$177,3,FALSE)*IF($I11=1,$AE11,1),0) -> 0 | AC11: =_xlfn.IFNA($H11*VLOOKUP($A11,M4_PR_Lijsten!$B$8:$I$177,4,FALSE)*IF($I11=1,$AE11,1),0) -> 0 | AD11: =_xlfn.IFNA($H11*VLOOKUP($A11,M4_PR_Lijsten!$B$8:$I$177,5,FALSE)*IF(I11=1,1,0),0) -> 0 | AE11: =_xlfn.IFNA(VLOOKUP($A11,M4_PR_Lijsten!$B$8:$I$177,6,FALSE),0) -> 0 | AF11: =_xlfn.IFNA($H11*VLOOKUP($A11,M4_PR_Lijsten!$B$8:$I$177,7,FALSE),0) -> 0 | AG11: =_xlfn.IFNA($H11*VLOOKUP($A11,M4_PR_Lijsten!$B$8:$I$177,8,FALSE),0) -> 0
A12: 0 | B12: =_xlfn.IFNA(VLOOKUP(A12,M4_PR_Lijsten!$B$8:$J$177,9,FALSE),"geen opmerking") -> geen opmerking | M12: =_xlfn.IFNA(D12*VLOOKUP(A12,M4_PR_Lijsten!$B$8:$I$177,2,FALSE)*IF(E12=1,Q12,1),0) -> 0 | N12: =_xlfn.IFNA(D12*VLOOKUP(A12,M4_PR_Lijsten!$B$8:$I$177,3,FALSE)*IF(E12=1,Q12,1),0) -> 0 | O12: =_xlfn.IFNA(D12*VLOOKUP(A12,M4_PR_Lijsten!$B$8:$I$177,4,FALSE)*IF(E12=1,Q12,1),0) -> 0 | P12: =_xlfn.IFNA(D12*VLOOKUP(A12,M4_PR_Lijsten!$B$8:$I$177,5,FALSE)*IF(E12=1,1,0),0) -> 0 | Q12: =_xlfn.IFNA(VLOOKUP(A12,M4_PR_Lijsten!$B$8:$I$177,6,FALSE),0) -> 0 | R12: =_xlfn.IFNA(D12*VLOOKUP(A12,M4_PR_Lijsten!$B$8:$I$177,7,FALSE),0) -> 0 | S12: =_xlfn.IFNA(D12*VLOOKUP(A12,M4_PR_Lijsten!$B$8:$I$177,8,FALSE),0) -> 0 | T12: =_xlfn.IFNA($F12*VLOOKUP($A12,M4_PR_Lijsten!$B$8:$I$177,2,FALSE)*IF($G12=1,$X12,1),0) -> 0 | U12: =_xlfn.IFNA($F12*VLOOKUP($A12,M4_PR_Lijsten!$B$8:$I$177,3,FALSE)*IF($G12=1,$X12,1),0) -> 0 | V12: =_xlfn.IFNA($F12*VLOOKUP($A12,M4_PR_Lijsten!$B$8:$I$177,4,FALSE)*IF($E12=1,$Q12,1),0) -> 0 | W12: =_xlfn.IFNA($F12*VLOOKUP($A12,M4_PR_Lijsten!$B$8:$I$177,5,FALSE)*IF(G12=1,1,0),0) -> 0 | X12: =_xlfn.IFNA(VLOOKUP($A12,M4_PR_Lijsten!$B$8:$I$177,6,FALSE),0) -> 0 | Y12: =_xlfn.IFNA($F12*VLOOKUP($A12,M4_PR_Lijsten!$B$8:$I$177,7,FALSE),0) -> 0 | Z12: =_xlfn.IFNA($F12*VLOOKUP($A12,M4_PR_Lijsten!$B$8:$I$177,8,FALSE),0) -> 0 | AA12: =_xlfn.IFNA($H12*VLOOKUP($A12,M4_PR_Lijsten!$B$8:$I$177,2,FALSE)*IF($I12=1,$AE12,1),0) -> 0 | AB12: =_xlfn.IFNA($H12*VLOOKUP($A12,M4_PR_Lijsten!$B$8:$I$177,3,FALSE)*IF($I12=1,$AE12,1),0) -> 0 | AC12: =_xlfn.IFNA($H12*VLOOKUP($A12,M4_PR_Lijsten!$B$8:$I$177,4,FALSE)*IF($I12=1,$AE12,1),0) -> 0 | AD12: =_xlfn.IFNA($H12*VLOOKUP($A12,M4_PR_Lijsten!$B$8:$I$177,5,FALSE)*IF(I12=1,1,0),0) -> 0 | AE12: =_xlfn.IFNA(VLOOKUP($A12,M4_PR_Lijsten!$B$8:$I$177,6,FALSE),0) -> 0 | AF12: =_xlfn.IFNA($H12*VLOOKUP($A12,M4_PR_Lijsten!$B$8:$I$177,7,FALSE),0) -> 0 | AG12: =_xlfn.IFNA($H12*VLOOKUP($A12,M4_PR_Lijsten!$B$8:$I$177,8,FALSE),0) -> 0
A13: 0 | B13: =_xlfn.IFNA(VLOOKUP(A13,M4_PR_Lijsten!$B$8:$J$177,9,FALSE),"geen opmerking") -> geen opmerking | M13: =_xlfn.IFNA(D13*VLOOKUP(A13,M4_PR_Lijsten!$B$8:$I$177,2,FALSE)*IF(E13=1,Q13,1),0) -> 0 | N13: =_xlfn.IFNA(D13*VLOOKUP(A13,M4_PR_Lijsten!$B$8:$I$177,3,FALSE)*IF(E13=1,Q13,1),0) -> 0 | O13: =_xlfn.IFNA(D13*VLOOKUP(A13,M4_PR_Lijsten!$B$8:$I$177,4,FALSE)*IF(E13=1,Q13,1),0) -> 0 | P13: =_xlfn.IFNA(D13*VLOOKUP(A13,M4_PR_Lijsten!$B$8:$I$177,5,FALSE)*IF(E13=1,1,0),0) -> 0 | Q13: =_xlfn.IFNA(VLOOKUP(A13,M4_PR_Lijsten!$B$8:$I$177,6,FALSE),0) -> 0 | R13: =_xlfn.IFNA(D13*VLOOKUP(A13,M4_PR_Lijsten!$B$8:$I$177,7,FALSE),0) -> 0 | S13: =_xlfn.IFNA(D13*VLOOKUP(A13,M4_PR_Lijsten!$B$8:$I$177,8,FALSE),0) -> 0 | T13: =_xlfn.IFNA($F13*VLOOKUP($A13,M4_PR_Lijsten!$B$8:$I$177,2,FALSE)*IF($G13=1,$X13,1),0) -> 0 | U13: =_xlfn.IFNA($F13*VLOOKUP($A13,M4_PR_Lijsten!$B$8:$I$177,3,FALSE)*IF($G13=1,$X13,1),0) -> 0 | V13: =_xlfn.IFNA($F13*VLOOKUP($A13,M4_PR_Lijsten!$B$8:$I$177,4,FALSE)*IF($E13=1,$Q13,1),0) -> 0 | W13: =_xlfn.IFNA($F13*VLOOKUP($A13,M4_PR_Lijsten!$B$8:$I$177,5,FALSE)*IF(G13=1,1,0),0) -> 0 | X13: =_xlfn.IFNA(VLOOKUP($A13,M4_PR_Lijsten!$B$8:$I$177,6,FALSE),0) -> 0 | Y13: =_xlfn.IFNA($F13*VLOOKUP($A13,M4_PR_Lijsten!$B$8:$I$177,7,FALSE),0) -> 0 | Z13: =_xlfn.IFNA($F13*VLOOKUP($A13,M4_PR_Lijsten!$B$8:$I$177,8,FALSE),0) -> 0 | AA13: =_xlfn.IFNA($H13*VLOOKUP($A13,M4_PR_Lijsten!$B$8:$I$177,2,FALSE)*IF($I13=1,$AE13,1),0) -> 0 | AB13: =_xlfn.IFNA($H13*VLOOKUP($A13,M4_PR_Lijsten!$B$8:$I$177,3,FALSE)*IF($I13=1,$AE13,1),0) -> 0 | AC13: =_xlfn.IFNA($H13*VLOOKUP($A13,M4_PR_Lijsten!$B$8:$I$177,4,FALSE)*IF($I13=1,$AE13,1),0) -> 0 | AD13: =_xlfn.IFNA($H13*VLOOKUP($A13,M4_PR_Lijsten!$B$8:$I$177,5,FALSE)*IF(I13=1,1,0),0) -> 0 | AE13: =_xlfn.IFNA(VLOOKUP($A13,M4_PR_Lijsten!$B$8:$I$177,6,FALSE),0) -> 0 | AF13: =_xlfn.IFNA($H13*VLOOKUP($A13,M4_PR_Lijsten!$B$8:$I$177,7,FALSE),0) -> 0 | AG13: =_xlfn.IFNA($H13*VLOOKUP($A13,M4_PR_Lijsten!$B$8:$I$177,8,FALSE),0) -> 0
A14: Collectie warmteprojecten | J14: =SUM(M16:M28)/$M$5+SUM(N16:N28)/$N$5+SUM(O16:O28)/$O$5 -> 163 | K14: =SUM(T16:T28)/$M$5+SUM(U16:U28)/$N$5+SUM(V16:V28)/$O$5 -> 0 | L14: =SUM(AA16:AA28)/$M$5+SUM(AB16:AB28)/$N$5+SUM(AC16:AC28)/$O$5 -> 0
C15: De volgorde van deze stappen volgt de gebruikelijke sequentie bij de aanleg van warmtenetten. | E15: 1= ja | G15: 1= ja | I15: 1= ja
A16: {=M4_PR_Lijsten!B27:B39} -> Opvolgen verkaveling Borgt | B16: =_xlfn.IFNA(VLOOKUP(A16,M4_PR_Lijsten!$B$8:$J$177,9,FALSE),"geen opmerking") -> Tijd voorzien om de loop van het dossier en de communicatie met de ontwikkelaar op te volgen. We voorzien hier ook dat de gemeenten een coördinerende rol opneemt om informatie van Providentia, de school, sporthal, … verzamelt. | C16: te voorzien voor clusters waar een marktconsultatie niet evident lijkt (bv omwille van geen aanleiding) | D16: 1 | M16: =_xlfn.IFNA(D16*VLOOKUP(A16,M4_PR_Lijsten!$B$8:$I$177,2,FALSE)*IF(E16=1,Q16,1),0) -> 4812.5 | N16: =_xlfn.IFNA(D16*VLOOKUP(A16,M4_PR_Lijsten!$B$8:$I$177,3,FALSE)*IF(E16=1,Q16,1),0) -> 375 | O16: =_xlfn.IFNA(D16*VLOOKUP(A16,M4_PR_Lijsten!$B$8:$I$177,4,FALSE)*IF(E16=1,Q16,1),0) -> 1218.75 | P16: =_xlfn.IFNA(D16*VLOOKUP(A16,M4_PR_Lijsten!$B$8:$I$177,5,FALSE)*IF(E16=1,1,0),0) -> 0 | Q16: =_xlfn.IFNA(VLOOKUP(A16,M4_PR_Lijsten!$B$8:$I$177,6,FALSE),0) -> 1 | R16: =_xlfn.IFNA(D16*VLOOKUP(A16,M4_PR_Lijsten!$B$8:$I$177,7,FALSE),0) -> 0 | S16: =_xlfn.IFNA(D16*VLOOKUP(A16,M4_PR_Lijsten!$B$8:$I$177,8,FALSE),0) -> 0 | T16: =_xlfn.IFNA($F16*VLOOKUP($A16,M4_PR_Lijsten!$B$8:$I$177,2,FALSE)*IF($G16=1,$X16,1),0) -> 0 | U16: =_xlfn.IFNA($F16*VLOOKUP($A16,M4_PR_Lijsten!$B$8:$I$177,3,FALSE)*IF($G16=1,$X16,1),0) -> 0 | V16: =_xlfn.IFNA($F16*VLOOKUP($A16,M4_PR_Lijsten!$B$8:$I$177,4,FALSE)*IF($E16=1,$Q16,1),0) -> 0 | W16: =_xlfn.IFNA($F16*VLOOKUP($A16,M4_PR_Lijsten!$B$8:$I$177,5,FALSE)*IF(G16=1,1,0),0) -> 0 | X16: =_xlfn.IFNA(VLOOKUP($A16,M4_PR_Lijsten!$B$8:$I$177,6,FALSE),0) -> 1 | Y16: =_xlfn.IFNA($F16*VLOOKUP($A16,M4_PR_Lijsten!$B$8:$I$177,7,FALSE),0) -> 0 | Z16: =_xlfn.IFNA($F16*VLOOKUP($A16,M4_PR_Lijsten!$B$8:$I$177,8,FALSE),0) -> 0 | AA16: =_xlfn.IFNA($H16*VLOOKUP($A16,M4_PR_Lijsten!$B$8:$I$177,2,FALSE)*IF($I16=1,$AE16,1),0) -> 0 | AB16: =_xlfn.IFNA($H16*VLOOKUP($A16,M4_PR_Lijsten!$B$8:$I$177,3,FALSE)*IF($I16=1,$AE16,1),0) -> 0 | AC16: =_xlfn.IFNA($H16*VLOOKUP($A16,M4_PR_Lijsten!$B$8:$I$177,4,FALSE)*IF($I16=1,$AE16,1),0) -> 0 | AD16: =_xlfn.IFNA($H16*VLOOKUP($A16,M4_PR_Lijsten!$B$8:$I$177,5,FALSE)*IF(I16=1,1,0),0) -> 0 | AE16: =_xlfn.IFNA(VLOOKUP($A16,M4_PR_Lijsten!$B$8:$I$177,6,FALSE),0) -> 1 | AF16: =_xlfn.IFNA($H16*VLOOKUP($A16,M4_PR_Lijsten!$B$8:$I$177,7,FALSE),0) -> 0 | AG16: =_xlfn.IFNA($H16*VLOOKUP($A16,M4_PR_Lijsten!$B$8:$I$177,8,FALSE),0) -> 0
A17: Particpatie in de haalbaarheidstudie | B17: =_xlfn.IFNA(VLOOKUP(A17,M4_PR_Lijsten!$B$8:$J$177,9,FALSE),"geen opmerking") -> Als er een studie naar een warmtenet komt aan Borgt, zal de gemeente daar een aandeel in hebben voor de gebouwen waar zij eigenaar van is. Er is nog geen zicht of en hoe de sociale woonmaatschappij zou kunnen participeren. | C17: voorkeurssysteem om de leefbaarheid van een project af te toetsen | D17: 1 | E17: 0 | M17: =_xlfn.IFNA(D17*VLOOKUP(A17,M4_PR_Lijsten!$B$8:$I$177,2,FALSE)*IF(E17=1,Q17,1),0) -> 4812.5 | N17: =_xlfn.IFNA(D17*VLOOKUP(A17,M4_PR_Lijsten!$B$8:$I$177,3,FALSE)*IF(E17=1,Q17,1),0) -> 0 | O17: =_xlfn.IFNA(D17*VLOOKUP(A17,M4_PR_Lijsten!$B$8:$I$177,4,FALSE)*IF(E17=1,Q17,1),0) -> 0 | P17: =_xlfn.IFNA(D17*VLOOKUP(A17,M4_PR_Lijsten!$B$8:$I$177,5,FALSE)*IF(E17=1,1,0),0) -> 0 | Q17: =_xlfn.IFNA(VLOOKUP(A17,M4_PR_Lijsten!$B$8:$I$177,6,FALSE),0) -> 1 | R17: =_xlfn.IFNA(D17*VLOOKUP(A17,M4_PR_Lijsten!$B$8:$I$177,7,FALSE),0) -> 0 | S17: =_xlfn.IFNA(D17*VLOOKUP(A17,M4_PR_Lijsten!$B$8:$I$177,8,FALSE),0) -> 0 | T17: =_xlfn.IFNA($F17*VLOOKUP($A17,M4_PR_Lijsten!$B$8:$I$177,2,FALSE)*IF($G17=1,$X17,1),0) -> 0 | U17: =_xlfn.IFNA($F17*VLOOKUP($A17,M4_PR_Lijsten!$B$8:$I$177,3,FALSE)*IF($G17=1,$X17,1),0) -> 0 | V17: =_xlfn.IFNA($F17*VLOOKUP($A17,M4_PR_Lijsten!$B$8:$I$177,4,FALSE)*IF($E17=1,$Q17,1),0) -> 0 | W17: =_xlfn.IFNA($F17*VLOOKUP($A17,M4_PR_Lijsten!$B$8:$I$177,5,FALSE)*IF(G17=1,1,0),0) -> 0 | X17: =_xlfn.IFNA(VLOOKUP($A17,M4_PR_Lijsten!$B$8:$I$177,6,FALSE),0) -> 1 | Y17: =_xlfn.IFNA($F17*VLOOKUP($A17,M4_PR_Lijsten!$B$8:$I$177,7,FALSE),0) -> 0 | Z17: =_xlfn.IFNA($F17*VLOOKUP($A17,M4_PR_Lijsten!$B$8:$I$177,8,FALSE),0) -> 0 | AA17: =_xlfn.IFNA($H17*VLOOKUP($A17,M4_PR_Lijsten!$B$8:$I$177,2,FALSE)*IF($I17=1,$AE17,1),0) -> 0 | AB17: =_xlfn.IFNA($H17*VLOOKUP($A17,M4_PR_Lijsten!$B$8:$I$177,3,FALSE)*IF($I17=1,$AE17,1),0) -> 0 | AC17: =_xlfn.IFNA($H17*VLOOKUP($A17,M4_PR_Lijsten!$B$8:$I$177,4,FALSE)*IF($I17=1,$AE17,1),0) -> 0 | AD17: =_xlfn.IFNA($H17*VLOOKUP($A17,M4_PR_Lijsten!$B$8:$I$177,5,FALSE)*IF(I17=1,1,0),0) -> 0 | AE17: =_xlfn.IFNA(VLOOKUP($A17,M4_PR_Lijsten!$B$8:$I$177,6,FALSE),0) -> 1 | AF17: =_xlfn.IFNA($H17*VLOOKUP($A17,M4_PR_Lijsten!$B$8:$I$177,7,FALSE),0) -> 0 | AG17: =_xlfn.IFNA($H17*VLOOKUP($A17,M4_PR_Lijsten!$B$8:$I$177,8,FALSE),0) -> 0
A18: Ondersteuning bij het sluiten van een intentieovereenkomst | B18: =_xlfn.IFNA(VLOOKUP(A18,M4_PR_Lijsten!$B$8:$J$177,9,FALSE),"geen opmerking") -> Participatie in de externe begeleiding voor het sluiten van een intentieovereenkomst. Voorzien is het volgen van de vergaderingen, voorbereiden van het standpunt van Grimbergen, terugkoppeling met CBS | C18: Te voorzien voor alle collectieve clusters waarin gemeente betrokken is. | D18: 1 | E18: 1 | M18: =_xlfn.IFNA(D18*VLOOKUP(A18,M4_PR_Lijsten!$B$8:$I$177,2,FALSE)*IF(E18=1,Q18,1),0) -> 2625 | N18: =_xlfn.IFNA(D18*VLOOKUP(A18,M4_PR_Lijsten!$B$8:$I$177,3,FALSE)*IF(E18=1,Q18,1),0) -> 1875 | O18: =_xlfn.IFNA(D18*VLOOKUP(A18,M4_PR_Lijsten!$B$8:$I$177,4,FALSE)*IF(E18=1,Q18,1),0) -> 406.25 | P18: =_xlfn.IFNA(D18*VLOOKUP(A18,M4_PR_Lijsten!$B$8:$I$177,5,FALSE)*IF(E18=1,1,0),0) -> 7500 | Q18: =_xlfn.IFNA(VLOOKUP(A18,M4_PR_Lijsten!$B$8:$I$177,6,FALSE),0) -> 1 | R18: =_xlfn.IFNA(D18*VLOOKUP(A18,M4_PR_Lijsten!$B$8:$I$177,7,FALSE),0) -> 0 | S18: =_xlfn.IFNA(D18*VLOOKUP(A18,M4_PR_Lijsten!$B$8:$I$177,8,FALSE),0) -> 0 | T18: =_xlfn.IFNA($F18*VLOOKUP($A18,M4_PR_Lijsten!$B$8:$I$177,2,FALSE)*IF($G18=1,$X18,1),0) -> 0 | U18: =_xlfn.IFNA($F18*VLOOKUP($A18,M4_PR_Lijsten!$B$8:$I$177,3,FALSE)*IF($G18=1,$X18,1),0) -> 0 | V18: =_xlfn.IFNA($F18*VLOOKUP($A18,M4_PR_Lijsten!$B$8:$I$177,4,FALSE)*IF($E18=1,$Q18,1),0) -> 0 | W18: =_xlfn.IFNA($F18*VLOOKUP($A18,M4_PR_Lijsten!$B$8:$I$177,5,FALSE)*IF(G18=1,1,0),0) -> 0 | X18: =_xlfn.IFNA(VLOOKUP($A18,M4_PR_Lijsten!$B$8:$I$177,6,FALSE),0) -> 1 | Y18: =_xlfn.IFNA($F18*VLOOKUP($A18,M4_PR_Lijsten!$B$8:$I$177,7,FALSE),0) -> 0 | Z18: =_xlfn.IFNA($F18*VLOOKUP($A18,M4_PR_Lijsten!$B$8:$I$177,8,FALSE),0) -> 0 | AA18: =_xlfn.IFNA($H18*VLOOKUP($A18,M4_PR_Lijsten!$B$8:$I$177,2,FALSE)*IF($I18=1,$AE18,1),0) -> 0 | AB18: =_xlfn.IFNA($H18*VLOOKUP($A18,M4_PR_Lijsten!$B$8:$I$177,3,FALSE)*IF($I18=1,$AE18,1),0) -> 0 | AC18: =_xlfn.IFNA($H18*VLOOKUP($A18,M4_PR_Lijsten!$B$8:$I$177,4,FALSE)*IF($I18=1,$AE18,1),0) -> 0 | AD18: =_xlfn.IFNA($H18*VLOOKUP($A18,M4_PR_Lijsten!$B$8:$I$177,5,FALSE)*IF(I18=1,1,0),0) -> 0 | AE18: =_xlfn.IFNA(VLOOKUP($A18,M4_PR_Lijsten!$B$8:$I$177,6,FALSE),0) -> 1 | AF18: =_xlfn.IFNA($H18*VLOOKUP($A18,M4_PR_Lijsten!$B$8:$I$177,7,FALSE),0) -> 0 | AG18: =_xlfn.IFNA($H18*VLOOKUP($A18,M4_PR_Lijsten!$B$8:$I$177,8,FALSE),0) -> 0
