Workbook
Name _6001_21: Uitgaven!$B$10:$B$20
Name _6001_21: #REF!
Name Aankoop_verzameling: Uitgaven!$C$10:$C$20
Name Aankoop_verzameling: #REF!

Sheet Inkomsten
C1: vzw HEEMSCHUT - Begroting 2025-2031
B6: Artikel- nummer | C6: 7. OPBRENGSTREKENING | D6: Budgetwijziging 2025 | E6: Index toepassen: J/N?
B8: 1. | C8: Subsidies en werkingsinkomsten
B10: 70 | C10: Verkopen en dienstprestaties | D10: =SUM(D11:D20) -> 76300
B11: 701100 | C11: Individueel bezoek | D11: 6000
B12: 701110 | C12: Groepsbezoek | D12: 6000
B13: 701130 | C13: Workshops en Stages | D13: 16000 | E13: J
B14: 701131 | C14: Stage Oven bouwen | D14: 10800 | E14: J
B15: 701132 | C15: Stage Vakwerk | D15: 7500 | E15: J
B16: 701140 | C16: Vakantieworkshops | D16: 5000 | E16: J
B17: 701150 | C17: Ateliers + schoolbezoeken | D17: 21000 | E17: J
B18: 703010 | C18: Verkoop producten en goederen | D18: 1000 | E18: J
B19: 703100 | C19: Gelegenheidsbar | D19: 1500 | E19: J
B20: 704100 | C20: Fotokopieën en scans | D20: 1500
B21: 74 | C21: Andere bedrijfsopbrengsten | D21: =SUM(D22:D43) -> 1191650
B22: 740100 | C22: Vlaamse gemeenschap | D22: 341700 | E22: J
B23: 740101 | C23: SF Socio-Culturele Sector | D23: 50000
B24: 740300 | C24: Gemeentelijke exploitatietoelage (index 2%) | D24: 529958 | E24: J
B25: 740301 | C25: Inrichting Woningen en vergaderzaal Liermolen | D25: 0
B26: 740302 | C26: Werktuigen Technische werking | D26: 0
B27: 740303 | C27: ICT Materiaal (WiFi, audiovisueel) | D27: 0
B28: 740304 | C28: Investeringstoelagen budget 2024 Bestelwagen, fiets, Bogerie, stapelaar | D28: 80000
B29: 740305 | C29: Investeringstoelagen budget 2025 Speelzones, fietsenstalling, smederij | D29: 30000
B30: 740306 | C30: Investering inrichting Tentoonstelling Liermolen + vergaderzaal | D30: 0
B31: 742100 | C31: Inkomsten afstootbeleid | D31: 500
B32: 743100 | C32: Sociale Maribel | D32: 22000
B33: 743310 | C33: Vrijstelling Bedrijfsvoorheffing | D33: 500
B34: 744110 | C34: Huur Tommenmolen - Café | D34: 11500
B35: 744120 | C35: Consessie Liermolen - Horeca | D35: 0
B36: 744120 | C36: Consessie Liermolen - woningen | D36: 0
... B43: 745100 | C43: Onvoorziene Opbrengsten | D43: 1000
B44: 75 | C44: Financiële opbrengsten | D44: =SUM(D45) -> 50
B45: 751511 | C45: Bankinteresten | D45: 50
C47: ALGEMEEN TOTAAL INKOMSTEN | D47: =SUM(D44,D21,D10) -> 1268000
C49: Inkomsten uit terugkerende Subsidies | D49: =SUM(D22,D23,D24,D32) -> 943658
C50: Inkomsten uit eenmalige subsidies (investeringen) | D50: =SUM(D25,D26,D27,D39) -> 10000
C51: Inkomsten uit eigen werking | D51: =SUM(D11:D20,D34,D39,D41,D43,D35,D37,D38) -> 99800 | E51: =SUM(E11:E20,E34,E39,E41,E43,E35,E37,E38) -> 0
C53: =Uitgaven!C90 -> ALGEMEEN TOTAAL UITGAVEN | D53: =Uitgaven!D90 -> 1268000.5
C55: Verschil | D55: =D$47-D$53 -> -0.48

Sheet Uitgaven
C1: vzw HEEMSCHUT - Begroting Uitgaven 2025 - 2031
B4: Artikel- nummer | C4: 6. KOSTENREKENING | D4: 2025
B6: 1. | C6: Werking vzw, museum
B8: 600 | C8: Aankopen van grondstoffen | D8: =SUM(D9:D11) -> 60000
B9: 600121 | C9: Aankoop verzameling | D9: 5000
B10: 600221 | C10: Inrichting van zalen en tentoonstellingen | D10: 20000
B11: 600400 | C11: Materiaal voor kennisoverdracht | D11: 35000
B12: 604 | C12: Aankopen van handelsgoederen | D12: =SUM(D13) -> 1500
B13: 604021 | C13: Handelsgoederen Gelegenheidsbar | D13: 1500
B14: 61 | C14: Diensten en diverse goederen | D14: =SUM(D15:D59) -> 100466
B15: 610100 | C15: Huur onroerend goed (loods Veldkantstraat) | D15: 21000
B16: 610600 | C16: Onderhoud en herstelling gebouwen | D16: 1616
B17: 610700 | C17: Onderhoud materieel | D17: 1000
B18: 610900 | C18: Onderhoud / herstelling bestelwagen / aanhangwagen / fiets | D18: 500
B19: 611010 | C19: ICT Materiaal (WiFi, audiovisueel) | D19: 2000
B20: 611020 | C20: Digitale transformatie (Collectieregistratie systeem, ID-Doc, boekhoudpakket) | D20: 3000
B21: 611200 | C21: Dierenvoer, -onderhoud | D21: 200
B22: 611510 | C22: Verbruik Water Guldendal | D22: 1200
B23: 611520 | C23: Verbruik Water Liermolen Museum | D23: 0
B24: 611521 | C24: Verbruik Water Liermolen Café | D24: 0
B25: 611530 | C25: Verbruik Water Tommenmolen | D25: 0
B26: 611610 | C26: Verbruik gas Guldendal | D26: 8000
... B59: 616520 | C59: Drukwerk | D59: 3000
B60: 64 | C60: Andere bedrijfskosten | D60: =SUM(D61:D64) -> 125000
B61: 640401 | C61: Investeringstoelagen budget 2024 (Bestelwagen, fiets, fietsenstalling, stapelaar) | D61: 80000
B62: 640402 | C62: Investeringstoelagen budget 2025 Speelzones + fietsenstalling | D62: 30000
B63: 640511 | C63: Brussels Airport Fietsmobiliteit | D63: 10000
B64: 640512 | C64: Boombank | D64: 5000
B66: 2. | C66: Personeel
B68: 620 | C68: Bezoldigingen en rechtstreekse sociale voordelen | D68: =SUM(D69:D74) -> 725064
B69: 620021 | C69: Loonkost Categorie A | D69: 235000
B70: 620022 | C70: Loonkost Categorie B | D70: 310000
B71: 620023 | C71: Loonkost Categorie C | D71: 0
B72: 620024 | C72: Loonkost Categorie D | D72: 123064
B73: 620025 | C73: Loonkost Categorie E | D73: 37000
B74: 620026 | C74: Loonkost Onthaalbedienden/Animatoren | D74: 20000
B75: 621000 | C75: Werkgeversbijdrage RSZ | D75: =D68*0.32 -> 232020.48
B76: 623 | C76: Andere personeelskosten | D76: =SUM(D77:D81) -> 22500
B77: 623021 | C77: Bedrijfsverzekering | D77: 6000
B78: 623121 | C78: Vorming en bijscholing | D78: 3000
...

Sheet Data
A1: Uitgaven
B3: 2025 | C3: 2026 | D3: 2027 | E3: 2028 | F3: 2029 | G3: 2030 | H3: 2031
A4: =Data!C17 -> Investeringen | B4: =SUMIFS(#REF!,#REF!,Data!$B$17) -> #REF! | C4: =SUMIFS(#REF!,#REF!,Data!$B$17) -> #REF! | D4: =SUMIFS(#REF!,#REF!,Data!$B$17) -> #REF! | E4: =SUMIFS(#REF!,#REF!,Data!$B$17) -> #REF! | F4: =SUMIFS(#REF!,#REF!,Data!$B$17) -> #REF! | G4: =SUMIFS(#REF!,#REF!,Data!$B$17) -> #REF! | H4: =SUMIFS(#REF!,#REF!,Data!$B$17) -> #REF! | J4: Index 2025 | K4: Index 2026 | L4: index 2027 | M4: Index 2028 | N4: Index 2029 | O4: Index 2030 | P4: Index 2031
A5: =Data!C18 -> Recurrente kosten | B5: =SUMIFS(#REF!,#REF!,Data!$B$18) -> #REF! | C5: =SUMIFS(#REF!,#REF!,Data!$B$18) -> #REF! | D5: =SUMIFS(#REF!,#REF!,Data!$B$18) -> #REF! | E5: =SUMIFS(#REF!,#REF!,Data!$B$18) -> #REF! | F5: =SUMIFS(#REF!,#REF!,Data!$B$18) -> #REF! | G5: =SUMIFS(#REF!,#REF!,Data!$B$18) -> #REF! | H5: =SUMIFS(#REF!,#REF!,Data!$B$18) -> #REF! | J5: 0.02 | K5: 0.02 | L5: 0.02 | M5: 0.02 | N5: 0.02 | O5: 0.02 | P5: 0.02
A6: =Data!C19 -> Loonkosten | B6: =SUMIFS(#REF!,#REF!,Data!$B$19) -> #REF! | C6: =SUMIFS(#REF!,#REF!,Data!$B$19) -> #REF! | D6: =SUMIFS(#REF!,#REF!,Data!$B$19) -> #REF! | E6: =SUMIFS(#REF!,#REF!,Data!$B$19) -> #REF! | F6: =SUMIFS(#REF!,#REF!,Data!$B$19) -> #REF! | G6: =SUMIFS(#REF!,#REF!,Data!$B$19) -> #REF! | H6: =SUMIFS(#REF!,#REF!,Data!$B$19) -> #REF!
A8: Inkomsten
B9: 2025 | C9: 2026 | D9: 2027 | E9: 2028 | F9: 2029 | G9: 2030 | H9: 2031
A10: =Data!G17 -> Subsidiering | B10: =SUMIFS(#REF!,#REF!,Data!$F$17) -> #REF! | C10: =SUMIFS(#REF!,#REF!,Data!$F$17) -> #REF! | D10: =SUMIFS(#REF!,#REF!,Data!$F$17) -> #REF! | E10: =SUMIFS(#REF!,#REF!,Data!$F$17) -> #REF! | F10: =SUMIFS(#REF!,#REF!,Data!$F$17) -> #REF! | G10: =SUMIFS(#REF!,#REF!,Data!$F$17) -> #REF! | H10: =SUMIFS(#REF!,#REF!,Data!$F$17) -> #REF!
A11: =Data!G18 -> Gemeentelijke subsidiering | B11: =SUMIFS(#REF!,#REF!,Data!$F$18) -> #REF! | C11: =SUMIFS(#REF!,#REF!,Data!$F$18) -> #REF! | D11: =SUMIFS(#REF!,#REF!,Data!$F$18) -> #REF! | E11: =SUMIFS(#REF!,#REF!,Data!$F$18) -> #REF! | F11: =SUMIFS(#REF!,#REF!,Data!$F$18) -> #REF! | G11: =SUMIFS(#REF!,#REF!,Data!$F$18) -> #REF! | H11: =SUMIFS(#REF!,#REF!,Data!$F$18) -> #REF!
A12: =Data!G19 -> Gemeentelijke Investeringen | B12: =SUMIFS(#REF!,#REF!,Data!$F$19) -> #REF! | C12: =SUMIFS(#REF!,#REF!,Data!$F$19) -> #REF! | D12: =SUMIFS(#REF!,#REF!,Data!$F$19) -> #REF! | E12: =SUMIFS(#REF!,#REF!,Data!$F$19) -> #REF! | F12: =SUMIFS(#REF!,#REF!,Data!$F$19) -> #REF! | G12: =SUMIFS(#REF!,#REF!,Data!$F$19) -> #REF! | H12: =SUMIFS(#REF!,#REF!,Data!$F$19) -> #REF!
A13: =Data!G20 -> Eigen inkomsten | B13: =SUMIFS(#REF!,#REF!,Data!$F$20) -> #REF! | C13: =SUMIFS(#REF!,#REF!,Data!$F$20) -> #REF! | D13: =SUMIFS(#REF!,#REF!,Data!$F$20) -> #REF! | E13: =SUMIFS(#REF!,#REF!,Data!$F$20) -> #REF! | F13: =SUMIFS(#REF!,#REF!,Data!$F$20) -> #REF! | G13: =SUMIFS(#REF!,#REF!,Data!$F$20) -> #REF! | H13: =SUMIFS(#REF!,#REF!,Data!$F$20) -> #REF!
A14: =Data!G21 -> Projecten | B14: =SUMIFS(#REF!,#REF!,Data!$F$21) -> #REF! | C14: =SUMIFS(#REF!,#REF!,Data!$F$21) -> #REF! | D14: =SUMIFS(#REF!,#REF!,Data!$F$21) -> #REF! | E14: =SUMIFS(#REF!,#REF!,Data!$F$21) -> #REF! | F14: =SUMIFS(#REF!,#REF!,Data!$F$21) -> #REF! | G14: =SUMIFS(#REF!,#REF!,Data!$F$21) -> #REF! | H14: =SUMIFS(#REF!,#REF!,Data!$F$21) -> #REF!
B17: C | C17: Investeringen | F17: S | G17: Subsidiering
B18: O | C18: Recurrente kosten | F18: GE | G18: Gemeentelijke subsidiering
B19: L | C19: Loonkosten | F19: GI | G19: Gemeentelijke Investeringen
F20: E | G20: Eigen inkomsten
F21: P | G21: Projecten
